BEGIN:VCALENDAR
VERSION:2.0
PRODID:-//ChamberMaster//Event Calendar 2.0//EN
METHOD:PUBLISH
X-PUBLISHED-TTL:P3D
REFRESH-INTERVAL:P3D
CALSCALE:GREGORIAN
BEGIN:VEVENT
DTSTART:20150925T003000Z
DTEND:20150925T020000Z
X-MICROSOFT-CDO-ALLDAYEVENT:FALSE
SUMMARY:BUSINESS AFTER FIVE
DESCRIPTION:Join us for:    -Networking  -Refreshments
X-ALT-DESC;FMTTYPE=text/html:Join us for:    -Networking  -Refreshments
LOCATION:Hosted by WestAmerica Bank 105 North Main Street Sebastopol\, CA 95472
UID:e.3189.35331
SEQUENCE:3
DTSTAMP:20260419T191919Z
URL:https://business.sebastopol.org/events/details/business-after-five-09-24-2015-35331
END:VEVENT

END:VCALENDAR
