BEGIN:VCALENDAR
VERSION:2.0
PRODID:-//ChamberMaster//Event Calendar 2.0//EN
METHOD:PUBLISH
X-PUBLISHED-TTL:P3D
REFRESH-INTERVAL:P3D
CALSCALE:GREGORIAN
BEGIN:VEVENT
DTSTART:20121026T003000Z
DTEND:20121026T020000Z
X-MICROSOFT-CDO-ALLDAYEVENT:FALSE
SUMMARY:Business After Five
DESCRIPTION:Chamber members and their guests are welcome to  meet and mingle with local business owners  and network with the community.  This month our host will be Dr Charlene Chan DDS   5:30 to 7pm
X-ALT-DESC;FMTTYPE=text/html:Chamber members and their guests are welcome to  meet and mingle with local business owners  and network with the community.  This month our host will be Dr Charlene Chan DDS   5:30 to 7pm
LOCATION:Dr. Charlene Chan 3800 Palm Avenue Sebastopol\, CA
UID:e.3189.8664
SEQUENCE:3
DTSTAMP:20260422T072636Z
URL:https://business.sebastopol.org/events/details/business-after-five-10-25-2012-8664
END:VEVENT

END:VCALENDAR
