BEGIN:VCALENDAR
VERSION:2.0
PRODID:-//ChamberMaster//Event Calendar 2.0//EN
METHOD:PUBLISH
X-PUBLISHED-TTL:P3D
REFRESH-INTERVAL:P3D
CALSCALE:GREGORIAN
BEGIN:VEVENT
DTSTART:20121116T013000Z
DTEND:20121116T030000Z
X-MICROSOFT-CDO-ALLDAYEVENT:FALSE
SUMMARY:Business After Five and S.H.I.N.E. Reception
DESCRIPTION:The Laguna De Santa Rosa Foundation will be our host for November.  This month's mixer is also the SHINE Reception\, \nSebastopol Honors Industry and New Enterprise.   SHINE recipients\, Laguna Foundation and Chamber members and their guests are welcome to meet and mingle with local business owners.\nAs a courtesy\, please RSVP to the Chamber 823-3032.
X-ALT-DESC;FMTTYPE=text/html:The Laguna De Santa Rosa Foundation will be our host for November.  This month's mixer is also the SHINE Reception\, \nSebastopol Honors Industry and New Enterprise.   SHINE recipients\, Laguna Foundation and Chamber members and their guests are welcome to meet and mingle with local business owners.\nAs a courtesy\, please RSVP to the Chamber 823-3032.
LOCATION:The Laguna De Santa Rosa Foundation 900 Sanford Road Santa Rosa
UID:e.3189.8689
SEQUENCE:3
DTSTAMP:20260422T053912Z
URL:https://business.sebastopol.org/events/details/business-after-five-and-s-h-i-n-e-reception-11-15-2012-8689
END:VEVENT

END:VCALENDAR
