BEGIN:VCALENDAR
VERSION:2.0
PRODID:-//ChamberMaster//Event Calendar 2.0//EN
METHOD:PUBLISH
X-PUBLISHED-TTL:P3D
REFRESH-INTERVAL:P3D
CALSCALE:GREGORIAN
BEGIN:VEVENT
DTSTART:20151210T013000Z
DTEND:20151210T030000Z
X-MICROSOFT-CDO-ALLDAYEVENT:FALSE
SUMMARY:BUSINESS AFTER FIVE HOLIDAY MIXER
DESCRIPTION:Join us in time to celebrate the season in this lovely tea room decked out for the holidays. Due to their ABC license there will be a small charge ($2.) for wine. Proceeds will benefit the W.Co Museum. Non-alcoholic beverages will be complimentary. They will also have some lively Irish music to celebrate the holidays.Please RSVP in advance to the Chamber at: (707) 823-3032.
X-ALT-DESC;FMTTYPE=text/html:<!--  Visual Designer HTML --><span style="color:#ff0000\;font-size:18px">Join us in time to celebrate the season in this lovely tea room decked out for the holidays. Due to their ABC license there will be a small </span><span style="color:#ff0000\;text-decoration:underline\;font-size:18px">charge </span><span style="color:#ff0000\;font-size:18px">($2.) for wine. Proceeds will benefit the W.Co Museum. Non-alcoholic beverages will be complimentary. They will also have some lively Irish music to celebrate the holidays.Please RSVP in advance to the Chamber at: (707) 823-3032</span><span style="font-size:16px\;color:#ff0000">.</span>
LOCATION:Muir's Tea Room 330 South Main Street\, Sebastopol
UID:e.3189.35421
SEQUENCE:3
DTSTAMP:20260419T143051Z
URL:https://business.sebastopol.org/events/details/business-after-five-holiday-mixer-12-09-2015-35421
END:VEVENT

END:VCALENDAR
