BEGIN:VCALENDAR
VERSION:2.0
PRODID:-//ChamberMaster//Event Calendar 2.0//EN
METHOD:PUBLISH
X-PUBLISHED-TTL:P3D
REFRESH-INTERVAL:P3D
CALSCALE:GREGORIAN
BEGIN:VEVENT
DTSTART:20150424T003000Z
DTEND:20150424T020000Z
X-MICROSOFT-CDO-ALLDAYEVENT:FALSE
SUMMARY:Business After Five Mixer
DESCRIPTION:Come join in the networking with fellow Chamber members and business colleagues. Always a fun and informative time!
X-ALT-DESC;FMTTYPE=text/html:Come join in the networking with fellow Chamber members and business colleagues. Always a fun and informative time!
LOCATION:Sonoma West Medical Center 501 Petaluma Avenue Sebastopol\, CA 95472
UID:e.3189.32425
SEQUENCE:3
DTSTAMP:20260420T034946Z
URL:https://business.sebastopol.org/events/details/business-after-five-mixer-04-23-2015-32425
END:VEVENT

END:VCALENDAR
