BEGIN:VCALENDAR
VERSION:2.0
PRODID:-//ChamberMaster//Event Calendar 2.0//EN
METHOD:PUBLISH
X-PUBLISHED-TTL:P3D
REFRESH-INTERVAL:P3D
CALSCALE:GREGORIAN
BEGIN:VEVENT
DTSTART:20121213T220000Z
DTEND:20121214T020000Z
X-MICROSOFT-CDO-ALLDAYEVENT:FALSE
SUMMARY:Butkus Insurance Hosts BloodSource Mobile Blood Drive
DESCRIPTION:BloodSource Bloodmobile will be at Butkus Insurance from 2 - 6pm in support of their annual Season of Giving campaign.  If you would like to schedule a blood donation time\, please visit www.bloodsource.org/drives. Enter location code D229 or call Paul.
X-ALT-DESC;FMTTYPE=text/html:BloodSource Bloodmobile will be at Butkus Insurance from 2 - 6pm in support of their annual Season of Giving campaign.  If you would like to schedule a blood donation time\, please visit www.bloodsource.org/drives. Enter location code D229 or call Paul.
LOCATION:Butkus Insurance Services 851 Gravenstein Hwy S Sebastopol
UID:e.3189.13400
SEQUENCE:3
DTSTAMP:20260422T040638Z
URL:https://business.sebastopol.org/events/details/butkus-insurance-hosts-bloodsource-mobile-blood-drive-12-13-2012-13400
END:VEVENT

END:VCALENDAR
