BEGIN:VCALENDAR
VERSION:2.0
PRODID:-//ChamberMaster//Event Calendar 2.0//EN
METHOD:PUBLISH
X-PUBLISHED-TTL:P3D
REFRESH-INTERVAL:P3D
CALSCALE:GREGORIAN
BEGIN:VEVENT
DTSTART:20150912T183000Z
DTEND:20150913T020000Z
X-MICROSOFT-CDO-ALLDAYEVENT:FALSE
SUMMARY:Cajun Zydeco Festival
DESCRIPTION:Music\, food\, dancing\, and\, most of all\, fun await you at the 20th Annual Sebastopol Cajun Zydeco Festival to be held on Sept. 12\, 2015\, from 11 am to 7 pm at Ives Park. Here is the music we have lined up for you this year.\n\nlil' Buck Sinegal ~ 5:00 pm\n\nLiving Legend | Louisiana Music Hallof fame member 16 years in Clifton Cheniers Red Hot Louisiana Band\n\nMark St Mary & is Louisiana Blues & Zydeco Band ~ 3:10 pm\n\nThe Heart of Real Zydeco | The Delta King\n\nCurley Taylor & Zydeco Trouble ~ 1:20 pm\n\nDirect from Louisiana | Old School with the Power of Youth\n\nJimmy Breaux & the Cajun Cottonpickers ~ 11:30 am\n\nBeausoleil Accordionist | Yeah\, that's right!
X-ALT-DESC;FMTTYPE=text/html:Music\, food\, dancing\, and\, most of all\, fun await you at the 20th Annual Sebastopol Cajun Zydeco Festival to be held on Sept. 12\, 2015\, from 11 am to 7 pm at Ives Park. Here is the music we have lined up for you this year.\n\nlil' Buck Sinegal ~ 5:00 pm\n\nLiving Legend | Louisiana Music Hallof fame member 16 years in Clifton Cheniers Red Hot Louisiana Band\n\nMark St Mary & is Louisiana Blues & Zydeco Band ~ 3:10 pm\n\nThe Heart of Real Zydeco | The Delta King\n\nCurley Taylor & Zydeco Trouble ~ 1:20 pm\n\nDirect from Louisiana | Old School with the Power of Youth\n\nJimmy Breaux & the Cajun Cottonpickers ~ 11:30 am\n\nBeausoleil Accordionist | Yeah\, that's right!
LOCATION:Ives Park\, Sebastopol
UID:e.3189.5042549
SEQUENCE:3
DTSTAMP:20260419T201104Z
URL:https://business.sebastopol.org/events/details/cajun-zydeco-festival-09-12-2015-5042549
END:VEVENT

END:VCALENDAR
