BEGIN:VCALENDAR
VERSION:2.0
PRODID:-//ChamberMaster//Event Calendar 2.0//EN
METHOD:PUBLISH
X-PUBLISHED-TTL:P3D
REFRESH-INTERVAL:P3D
CALSCALE:GREGORIAN
BEGIN:VEVENT
DTSTART:20151004T200000Z
DTEND:20151005T000000Z
X-MICROSOFT-CDO-ALLDAYEVENT:FALSE
SUMMARY:Calabash - A Festival of Gourds\, Art and the Garden
DESCRIPTION:Food For Thought\, in collaboration with the Occidental Arts and Ecology Center\, present the 15th annual Calabash - Sonoma County’s most colorful and inspiring harvest event. Calabash\, named Best Fundraiser by readers of the North Bay Bohemian for the last three years\, features a silent auction of fine gourd art\, along with tours of Food For Thought’s beautiful organic gardens\, which will be at their peak. Guests at Calabash enjoy a sumptuous array of fine food and wine from Sonoma County’s bountiful harvest\, and live music played on hand-made gourd instruments. The event will also feature a sale of unique garden art and book art\, and an exclusive selection from Food For Thought Antiques.	Tickets are $45 before the event or $50 day-of-event.Proceeds from Calabash will benefit Food For Thought\, which provides comprehensive nutrition and other services – free of charge – to 700 men\, women\, and children affected by HIV/AIDS and other critical illnesses in Sonoma County.
X-ALT-DESC;FMTTYPE=text/html:<!--  Visual Designer HTML -->Food For Thought\, in collaboration with the Occidental Arts and Ecology Center\, present the 15th annual Calabash - Sonoma County’s most colorful and inspiring harvest event. Calabash\, named Best Fundraiser by readers of the <em>North Bay Bohemian</em> for the last three years\, features a silent auction of fine gourd art\, along with tours of Food For Thought’s beautiful organic gardens\, which will be at their peak.<p> Guests at Calabash enjoy a sumptuous array of fine food and wine from Sonoma County’s bountiful harvest\, and live music played on hand-made gourd instruments. The event will also feature a sale of unique garden art and book art\, and an exclusive selection from Food For Thought Antiques.</p><p>	Tickets are $45 before the event or $50 day-of-event.</p><p>Proceeds from Calabash will benefit Food For Thought\, which provides comprehensive nutrition and other services – free of charge – to 700 men\, women\, and children affected by HIV/AIDS and other critical illnesses in Sonoma County.&nbsp\;</p>
LOCATION:Food For Thought 6550 Railroad Avenue between First and Forestville Sts. Forestville\, California
UID:e.3189.5042677
SEQUENCE:3
DTSTAMP:20260419T180532Z
URL:https://business.sebastopol.org/events/details/calabash-a-festival-of-gourds-art-and-the-garden-10-04-2015-5042677
END:VEVENT

END:VCALENDAR
