BEGIN:VCALENDAR
VERSION:2.0
PRODID:-//ChamberMaster//Event Calendar 2.0//EN
METHOD:PUBLISH
X-PUBLISHED-TTL:P3D
REFRESH-INTERVAL:P3D
CALSCALE:GREGORIAN
BEGIN:VEVENT
DTSTART:20130222T013000Z
DTEND:20130222T030000Z
X-MICROSOFT-CDO-ALLDAYEVENT:FALSE
SUMMARY:CALVIN TERRELL
DESCRIPTION:Sebastopol Area Chamber of Commerce is proud to help co-sponsor this event: Analy Student Club Operation 1-4-1 “One Student for One Student” presents  World Renowned Speaker  Calvin Terrelldiscussing  * Social Justice vs Violence  * Accountability vs Self Harm  * Living Better vs Addiction   Date: Thursday\, February 21st  Time: 5:30pm - 7:00pm  Location: Analy High School Auditorium  $5 Pasta Dinner Following Presentation  COME JOIN THE MOVEMENT Operation 1-4-1 is a proud Sonoma County Chapter of Friday Night Live
X-ALT-DESC;FMTTYPE=text/html:Sebastopol Area Chamber of Commerce is proud to help co-sponsor this event: Analy Student Club Operation 1-4-1 “One Student for One Student” presents  World Renowned Speaker  Calvin Terrelldiscussing  * Social Justice vs Violence  * Accountability vs Self Harm  * Living Better vs Addiction   Date: Thursday\, February 21st  Time: 5:30pm - 7:00pm  Location: Analy High School Auditorium  $5 Pasta Dinner Following Presentation  COME JOIN THE MOVEMENT Operation 1-4-1 is a proud Sonoma County Chapter of Friday Night Live
LOCATION:Analy High School Auditorium
UID:e.3189.15124
SEQUENCE:3
DTSTAMP:20260422T010224Z
URL:https://business.sebastopol.org/events/details/calvin-terrell-02-21-2013-15124
END:VEVENT

END:VCALENDAR
