BEGIN:VCALENDAR
VERSION:2.0
PRODID:-//ChamberMaster//Event Calendar 2.0//EN
METHOD:PUBLISH
X-PUBLISHED-TTL:P3D
REFRESH-INTERVAL:P3D
CALSCALE:GREGORIAN
BEGIN:VEVENT
DTSTART:20151023T153000Z
DTEND:20151026T003000Z
X-MICROSOFT-CDO-ALLDAYEVENT:FALSE
SUMMARY:CAPPA Childbirth Educator Training
DESCRIPTION:October 23-25\, 2015 8:30am-5:30pm daily  \nDo you have a passion for supporting women and their partners during pregnancy? Are you looking to start or grow your business while adding to your repertoire of childbirth services?\n\nThis 3-day training is the first step in becoming a Certified Childbirth Educator with CAPPA\, the world's largest childbirth education organization. Attending can also count toward fulfilling CEUs!\n\nCalifornia RNs\, CPMs\, and CNMs: This training has been approved by the California Board of Registered Nursing for 24 Continuing Education Contact Hours! Provider #CEP16340.\n\nAfter the completion of the training workshop\, all participants are invited to join a private Facebook Group with Tabitha as the facilitating mentor. Ask questions\, get support\, and cheer for others as you make your way through the certification process and beyond!\n\n\nThe cost of this workshop is $450 and includes the training manual and folder of materials. CAPPA membership and certification packet are not included.\n\nSpace is LIMITED\, register soon!\n\nFollow on Facebook at www.facebook.com/LuminaryBirth  \n$450.  \nPresented by Luminary Birth Services.
X-ALT-DESC;FMTTYPE=text/html:<!--  Visual Designer HTML -->October 23-25\, 2015 8:30am-5:30pm daily  <P>\nDo you have a passion for supporting women and their partners during pregnancy? Are you looking to start or grow your business while adding to your repertoire of childbirth services?<BR /><BR />This 3-day training is the first step in becoming a Certified Childbirth Educator with CAPPA\, the world's largest childbirth education organization. Attending can also count toward fulfilling CEUs!<BR /><BR />California RNs\, CPMs\, and CNMs: This training has been approved by the California Board of Registered Nursing for 24 Continuing Education Contact Hours! Provider #CEP16340.<BR /><BR />After the completion of the training workshop\, all participants are invited to join a private Facebook Group with Tabitha as the facilitating mentor. Ask questions\, get support\, and cheer for others as you make your way through the certification process and beyond!<BR /><BR /><BR />The cost of this workshop is $450 and includes the training manual and folder of materials. CAPPA membership and certification packet are not included.<BR /><BR />Space is LIMITED\, register soon!<BR /><BR />Follow on Facebook at www.facebook.com/LuminaryBirth  <P>\n$450.  <P>\nPresented by Luminary Birth Services. <P>&nbsp\;</P></P></P></P>
LOCATION:Soul Shine Family Chiropractic\, 440 South E Street\, Santa Rosa\, CA 95404
UID:e.3189.5042828
SEQUENCE:3
DTSTAMP:20260419T175800Z
URL:https://business.sebastopol.org/events/details/cappa-childbirth-educator-training-10-23-2015-5042828
END:VEVENT

END:VCALENDAR
