BEGIN:VCALENDAR
VERSION:2.0
PRODID:-//ChamberMaster//Event Calendar 2.0//EN
METHOD:PUBLISH
X-PUBLISHED-TTL:P3D
REFRESH-INTERVAL:P3D
CALSCALE:GREGORIAN
BEGIN:VEVENT
DTSTART:20150812T230000Z
DTEND:20150813T030000Z
X-MICROSOFT-CDO-ALLDAYEVENT:FALSE
SUMMARY:CELEBRATE OUR COMMUNITY
DESCRIPTION:On August 12th - from 4 to 8pm\, the Sonoma County Gazette is hosting a\nCELEBRATE OUR COMMUNITY event at the Forestville Downtown Park.\n\n\n\nFOOD - MUSIC - BOOKMOBILE - KID-FREINDLY\nFUN! \n\nShare time with each other - Meet new people -\nENJOY!\n\n\n\nEVERYONE is invited to mix - mingle\, eat\, drink\n& be merry! The entire county - all 130\,000 Sonoma County Gazette readers\,\n- all chambers of commerce - all individuals and businesses.\n\n\n\nEVERYONE is invited to register for a booth or\ntable. Promote your business - non-profit - sell Food\, beverages\, art - whatever\npeople want to promote and/or sell - it’s FREE-FOR-ALL.\n\n\n\nSpace is a maximum of 10’ x 10 for each - set up\nis first-come first choice of space - no electricity\, table or chairs provided.\nBRING everything you need. Set up by 3pm. so our vehicles are out of the way.\n\n\n\nOther than that - I provide the place - the\npromotion - live music by The Smart Fellas (Swing/Jazz) - and of course\nporta-potties\, and trash service.\n\n\n\nPlease REGISTER for your space before August 1 -\nthe sooner the better.
X-ALT-DESC;FMTTYPE=text/html:<!--  Visual Designer HTML --><span style="font-size:10.5pt\;font-family:&amp\;amp\;&lt\;br/&gt\;mso-fareast-font-family:Calibri\;color:#0056D6\;&lt\;br/&gt\;background:white">On August 12th - from 4 to 8pm\, the Sonoma County Gazette is hosting a\nCELEBRATE OUR COMMUNITY event at the Forestville Downtown Park.</span><span style="font-size:10.5pt\;font-family:&amp\;quot\;color:#0056D6"><br />\n<br />\n<span style="background:white">FOOD - MUSIC - BOOKMOBILE - KID-FREINDLY\nFUN!&nbsp\;</span><br />\n<span style="background:white">Share time with each other - Meet new people -\nENJOY!</span><br />\n<br />\n<span style="background:white">EVERYONE is invited to mix - mingle\, eat\, drink\n&amp\; be merry! The entire county - all 130\,000 Sonoma County Gazette readers\,\n- all chambers of commerce - all individuals and businesses.</span><br />\n<br />\n<span style="background:white">EVERYONE is invited to register for a booth or\ntable. Promote your business - non-profit - sell Food\, beverages\, art - whatever\npeople want to promote and/or sell - it’s FREE-FOR-ALL.</span><br />\n<br />\n<span style="background:white">Space is a maximum of 10’ x 10 for each - set up\nis first-come first choice of space - no electricity\, table or chairs provided.\nBRING everything you need. Set up by 3pm. so our vehicles are out of the way.</span><br />\n<br />\n<span style="background:white">Other than that - I provide the place - the\npromotion - live music by The Smart Fellas (Swing/Jazz) - and of course\nporta-potties\, and trash service.</span><br />\n<br />\n<span style="background:white">Please REGISTER for your space before August 1 -\nthe sooner the better.</span></span>
LOCATION:Forestville Downtown Park
UID:e.3189.5042663
SEQUENCE:3
DTSTAMP:20260419T210247Z
URL:https://business.sebastopol.org/events/details/celebrate-our-community-08-12-2015-5042663
END:VEVENT

END:VCALENDAR
