BEGIN:VCALENDAR
VERSION:2.0
PRODID:-//ChamberMaster//Event Calendar 2.0//EN
METHOD:PUBLISH
X-PUBLISHED-TTL:P3D
REFRESH-INTERVAL:P3D
CALSCALE:GREGORIAN
BEGIN:VEVENT
DTSTART:20150716T010000Z
DTEND:20150716T010000Z
X-MICROSOFT-CDO-ALLDAYEVENT:FALSE
SUMMARY:Ceres Benefit Concert with Jazz Singer Kellye Gray
DESCRIPTION:Join us for our favorite event of the year: the Ceres benefit concert. All proceeds benefit the wonderfulCeres Community Project.The Ceres Community Project works to restore locally-grown\, organic whole food to its place as the foundation of health for people\, communities and the planet through an integrated model that provides those facing cancer and other life-threatening illnesses with nourishing meals\, gives teens experiences of growing and preparing healthy food\, and educates the larger community about the connection between food\, healing and wellness.Performing for the evening is the lovely Kellye Gray. With her renowned\, brilliant use of voice as instrument\, Kellye has entertained dignitaries and heads-of-state\, and shared stages with an impressive constellation of international jazz\, blues and R&B stars in a career spanning twenty years. The San Francisco Examiner called her “a musically most imaginative tour de force.” Described as “stunning scat singing\, instrumental simulations and dark-toned balladry” by the Los Angeles Times\, Gray creatively uses her voice as part of the ensemble. JazzTimes magazine calls her ” an impressive\, indeed frighteningly vast talent.”Mostly self-taught\, Gray has developed her own approach to singing jazz. Her performances highlight her strong sense of balladry with both vocal and lyrical interpretation\, along with her funky sense of rhythm. Never limiting herself creatively\, Gray blends scat\, ballads\, Latin\, funk\, soul\, blues\, solo and free styles into her shows.6:00-7:00pm Appetizers and Wine7:00-8:15pm Performance8:15-9:00pm Dessert and Cedar Enzyme Footbaths
X-ALT-DESC;FMTTYPE=text/html:<!--  Visual Designer HTML --><span style="color: #110d0d\; font-size: 14px\; line-height: 1.7\; background-color: #f4efe9">Join us for our favorite event of the year: the Ceres benefit concert. All proceeds benefit the wonderful</span><a href="http://www.ceresproject.org/" style="font-size: 14px\; line-height: 1.7\; box-sizing: border-box\; color: #6a313e\; cursor: pointer\; transition: border-color 0.1s\, background 0.1s\, color 0.1s ease-in-out\; background-image: initial\; background-attachment: initial\; background-size: initial\; background-origin: initial\; background-clip: initial">Ceres Community Project</a><span style="color: #110d0d\; font-size: 14px\; line-height: 1.7\; background-color: #f4efe9">.</span><p style="box-sizing: border-box\; margin: 0px 0px 10px\; line-height: 1.7\; color: #110d0d\; font-size: 14px\; background-color: #f4efe9">The Ceres Community Project works to restore locally-grown\, organic whole food to its place as the foundation of health for people\, communities and the planet through an integrated model that provides those facing cancer and other life-threatening illnesses with nourishing meals\, gives teens experiences of growing and preparing healthy food\, and educates the larger community about the connection between food\, healing and wellness.</p><p style="box-sizing: border-box\; margin: 0px 0px 10px\; line-height: 1.7\; color: #110d0d\; font-size: 14px\; background-color: #f4efe9">Performing for the evening is the lovely&nbsp\;<b style="box-sizing: border-box"><a href="http://www.kellyegray.com/" style="box-sizing: border-box\; color: #6a313e\; cursor: pointer\; transition: border-color 0.1s\, background 0.1s\, color 0.1s ease-in-out\; background: transparent">Kellye Gray</a>.&nbsp\;</b>With her renowned\, brilliant use of voice as instrument\, Kellye&nbsp\;has entertained dignitaries and heads-of-state\, and shared stages with an impressive constellation of international jazz\, blues and R&amp\;B stars in a career spanning twenty years. The San Francisco Examiner called her “a musically most imaginative tour de force.” Described as “stunning scat singing\, instrumental simulations and dark-toned balladry” by the Los Angeles Times\, Gray creatively uses her voice as part of the ensemble. JazzTimes magazine calls her ” an impressive\, indeed frighteningly vast talent.”</p><p style="box-sizing: border-box\; margin: 0px 0px 10px\; line-height: 1.7\; color: #110d0d\; font-size: 14px\; background-color: #f4efe9">Mostly self-taught\, Gray has developed her own approach to singing jazz. Her performances highlight her strong sense of balladry with both vocal and lyrical interpretation\, along with her funky sense of rhythm. Never limiting herself creatively\, Gray blends scat\, ballads\, Latin\, funk\, soul\, blues\, solo and free styles into her shows.</p><p style="box-sizing: border-box\; margin: 0px 0px 10px\; line-height: 1.7\; color: #110d0d\; font-size: 14px\; background-color: #f4efe9"><b style="box-sizing: border-box">6:00-7:00pm Appetizers and Wine</b></p><p style="box-sizing: border-box\; margin: 0px 0px 10px\; line-height: 1.7\; color: #110d0d\; font-size: 14px\; background-color: #f4efe9"><b style="box-sizing: border-box">7:00-8:15pm Performance</b></p><p style="box-sizing: border-box\; margin: 0px 0px 10px\; line-height: 1.7\; color: #110d0d\; font-size: 14px\; background-color: #f4efe9"><b style="box-sizing: border-box">8:15-9:00pm Dessert and Cedar Enzyme Footbaths</b></p>
LOCATION:Osmosis Day Spa Sanctuary209 Bohemian Hwy Freestone\, CA 95472
UID:e.3189.5042627
SEQUENCE:3
DTSTAMP:20260419T231734Z
URL:https://business.sebastopol.org/events/details/ceres-benefit-concert-with-jazz-singer-kellye-gray-07-15-2015-5042627
END:VEVENT

END:VCALENDAR
