BEGIN:VCALENDAR
VERSION:2.0
PRODID:-//ChamberMaster//Event Calendar 2.0//EN
METHOD:PUBLISH
X-PUBLISHED-TTL:P3D
REFRESH-INTERVAL:P3D
CALSCALE:GREGORIAN
BEGIN:VEVENT
DTSTART:20150313T070000Z
DTEND:20150313T070000Z
X-MICROSOFT-CDO-ALLDAYEVENT:FALSE
SUMMARY:Cheryl Wheeler and Kenny White
DESCRIPTION:*****CONCERT ANNOUNCEMENT*****\n\nCheryl Wheeler and Kenny White\nWhen: Friday\, March 13\nTickets: \nPremium Tickets: $35 ~ General Admission Adv: $30 ~ General Admission Door: $33\n\nFor Tickets and Information: \nSCCC Website: www.seb.org or  Phone: 707-823-1511\nTicket Link: https://www.z2systems.com/np/clients/seb/eventRegistration.jsp?event=983&\n\n******Flyer and Video Link included******\n\nAbout the Event:\nA gifted songwriter with a beautiful voice\, Cheryl Wheeler has to be seen to be appreciated. Nothing you read and nothing you hear from her albums prepares you for how good a performer she is. She is a natural storyteller with a fantastic sense of humor.  Cheryl’s songs have been covered by artists as diverse as Dan Seals\, Peter Paul and Mary\, Kenny Loggins\, Garth Brooks\, Suzy Boggus\, Melanie\, Bette Midler\, Maura O’Connell\, Sylvia\, Kathy Mattea\, and Holly Near. If they think she is great\, then you owe it to yourself to learn more if you aren't familiar with her. But until you see her in person\, you never really believe what you've been told about her. Besides\, almost half of the songs she does during her shows haven't been recorded!\n\n“Brilliant\, hysterical performances and beautifully crafted songs. “\n"Rare artist...strong poetry\, complex melodies\, clever wit."\nSingOut! Magazine\n\n“I’d have to say that Kenny White has earned a place among my favorite singer/songwriters…and particularly\, lyricists. As we say in the trade “he goes deep.” A true wordsmith AND musician who reveals a fine sense of humor\, as well. Put on your headphones and listen carefully.”\n- David Crosby\n\nVIDEO CLIPS: \nCheryl Wheeler: http://youtu.be/YM6uTPPf0Bk\nCheryl Wheeler and Kenny White: http://youtu.be/BEIKu8x3ZyQ\n\nVisit Cheryl’s Website: http://www.cherylwheeler.com/\nVisit Kenny’s Website: http://www.kennywhite.net/
X-ALT-DESC;FMTTYPE=text/html:*****CONCERT ANNOUNCEMENT*****\n\nCheryl Wheeler and Kenny White\nWhen: Friday\, March 13\nTickets: \nPremium Tickets: $35 ~ General Admission Adv: $30 ~ General Admission Door: $33\n\nFor Tickets and Information: \nSCCC Website: www.seb.org or  Phone: 707-823-1511\nTicket Link: https://www.z2systems.com/np/clients/seb/eventRegistration.jsp?event=983&\n\n******Flyer and Video Link included******\n\nAbout the Event:\nA gifted songwriter with a beautiful voice\, Cheryl Wheeler has to be seen to be appreciated. Nothing you read and nothing you hear from her albums prepares you for how good a performer she is. She is a natural storyteller with a fantastic sense of humor.  Cheryl’s songs have been covered by artists as diverse as Dan Seals\, Peter Paul and Mary\, Kenny Loggins\, Garth Brooks\, Suzy Boggus\, Melanie\, Bette Midler\, Maura O’Connell\, Sylvia\, Kathy Mattea\, and Holly Near. If they think she is great\, then you owe it to yourself to learn more if you aren't familiar with her. But until you see her in person\, you never really believe what you've been told about her. Besides\, almost half of the songs she does during her shows haven't been recorded!\n\n“Brilliant\, hysterical performances and beautifully crafted songs. “\n"Rare artist...strong poetry\, complex melodies\, clever wit."\nSingOut! Magazine\n\n“I’d have to say that Kenny White has earned a place among my favorite singer/songwriters…and particularly\, lyricists. As we say in the trade “he goes deep.” A true wordsmith AND musician who reveals a fine sense of humor\, as well. Put on your headphones and listen carefully.”\n- David Crosby\n\nVIDEO CLIPS: \nCheryl Wheeler: http://youtu.be/YM6uTPPf0Bk\nCheryl Wheeler and Kenny White: http://youtu.be/BEIKu8x3ZyQ\n\nVisit Cheryl’s Website: http://www.cherylwheeler.com/\nVisit Kenny’s Website: http://www.kennywhite.net/
LOCATION:Sebastopol Community Cultural Center 390 Morris Street Sebastopol\, CA. 95472
UID:e.3189.5042172
SEQUENCE:3
DTSTAMP:20260420T053656Z
URL:https://business.sebastopol.org/events/details/cheryl-wheeler-and-kenny-white-03-13-2015-5042172
END:VEVENT

END:VCALENDAR
