BEGIN:VCALENDAR
VERSION:2.0
PRODID:-//ChamberMaster//Event Calendar 2.0//EN
METHOD:PUBLISH
X-PUBLISHED-TTL:P3D
REFRESH-INTERVAL:P3D
CALSCALE:GREGORIAN
BEGIN:VEVENT
DTSTART:20130504T170000Z
DTEND:20130505T233000Z
X-MICROSOFT-CDO-ALLDAYEVENT:FALSE
SUMMARY:Cinco De Mayo
DESCRIPTION:Cinco de Mayo is observed to commemorate the Mexican army's unlikely victory over French forces at the Battle of Puebla on May 5\, 1862. In honor of the little guys\, we’re showcasing our small lot wines this weekend for you to taste.  Our tasting flight will feature 5 wines from 5 different appellations\, and on Sunday we’ll have Randy Cooks band playing on the patio. So come out and enjoy the festive weekend with us!
X-ALT-DESC;FMTTYPE=text/html:Cinco de Mayo is observed to commemorate the Mexican army's unlikely victory over French forces at the Battle of Puebla on May 5\, 1862. In honor of the little guys\, we’re showcasing our small lot wines this weekend for you to taste.  Our tasting flight will feature 5 wines from 5 different appellations\, and on Sunday we’ll have Randy Cooks band playing on the patio. So come out and enjoy the festive weekend with us!
LOCATION:Dutton-Goldfield Winery\, 3100 Gravenstein Hwy North\, Sebastopol\, CA. 95472
UID:e.3189.5040637
SEQUENCE:3
DTSTAMP:20260421T203023Z
URL:https://business.sebastopol.org/events/details/cinco-de-mayo-05-04-2013-5040637
END:VEVENT

END:VCALENDAR
