BEGIN:VCALENDAR
VERSION:2.0
PRODID:-//ChamberMaster//Event Calendar 2.0//EN
METHOD:PUBLISH
X-PUBLISHED-TTL:P3D
REFRESH-INTERVAL:P3D
CALSCALE:GREGORIAN
BEGIN:VEVENT
DTSTART:20150718T160000Z
DTEND:20150719T220000Z
X-MICROSOFT-CDO-ALLDAYEVENT:FALSE
SUMMARY:Civil War Days
DESCRIPTION:The California Historical Artillery Society and Casini Ranch Family Campground present Northern California's largest Civil War reenactment and one of the largest reenactments west of the Mississippi!
X-ALT-DESC;FMTTYPE=text/html:<!--  Visual Designer HTML --><p> The California Historical Artillery Society and Casini Ranch Family Campground present Northern California&#39\;s largest Civil War reenactment and one of the largest reenactments west of the Mississippi!</p><p>&nbsp\;</p>
LOCATION:Freezeout Road\,Duncans Mills\, CA
UID:e.3189.5042636
SEQUENCE:3
DTSTAMP:20260419T230922Z
URL:https://business.sebastopol.org/events/details/civil-war-days-07-18-2015-5042636
END:VEVENT

END:VCALENDAR
