BEGIN:VCALENDAR
VERSION:2.0
PRODID:-//ChamberMaster//Event Calendar 2.0//EN
METHOD:PUBLISH
X-PUBLISHED-TTL:P3D
REFRESH-INTERVAL:P3D
CALSCALE:GREGORIAN
BEGIN:VEVENT
DTSTART:20150527T170000Z
DTEND:20150527T180000Z
X-MICROSOFT-CDO-ALLDAYEVENT:FALSE
SUMMARY:Coffee with the Director
DESCRIPTION:Come join us in the Forum room of the Sebastopol Library for coffee with the director\, a chance for community members to discuss library-related topics with Sonoma County Library Director Brett Lear.
X-ALT-DESC;FMTTYPE=text/html:Come join us in the Forum room of the Sebastopol Library for coffee with the director\, a chance for community members to discuss library-related topics with Sonoma County Library Director Brett Lear.
LOCATION:Sebastopol Regional Library 7140 Bodega Avenue\, Sebastopol
UID:e.3189.5042360
SEQUENCE:3
DTSTAMP:20260420T023231Z
URL:https://business.sebastopol.org/events/details/coffee-with-the-director-05-27-2015-5042360
END:VEVENT

END:VCALENDAR
