BEGIN:VCALENDAR
VERSION:2.0
PRODID:-//ChamberMaster//Event Calendar 2.0//EN
METHOD:PUBLISH
X-PUBLISHED-TTL:P3D
REFRESH-INTERVAL:P3D
CALSCALE:GREGORIAN
BEGIN:VEVENT
DTSTART:20150717T013000Z
DTEND:20150717T033000Z
X-MICROSOFT-CDO-ALLDAYEVENT:FALSE
SUMMARY:Communicate with Confidence
DESCRIPTION:Having conversations that are going to make lasting change in your life can feel daunting.  Together we will look at how to prevent conflict before it starts.  Then we will examine the blocks you may be experiencing to start the conversation  and review a time-tested formula for tracking your biggest communication challenges.
X-ALT-DESC;FMTTYPE=text/html:Having conversations that are going to make lasting change in your life can feel daunting.  Together we will look at how to prevent conflict before it starts.  Then we will examine the blocks you may be experiencing to start the conversation  and review a time-tested formula for tracking your biggest communication challenges.
LOCATION:O'Reilly Media 1005 Gravenstein Hwy North Sebastopol\, Ca 95472
UID:e.3189.5042591
SEQUENCE:3
DTSTAMP:20260419T230954Z
URL:https://business.sebastopol.org/events/details/communicate-with-confidence-07-16-2015-5042591
END:VEVENT

END:VCALENDAR
