BEGIN:VCALENDAR
VERSION:2.0
PRODID:-//ChamberMaster//Event Calendar 2.0//EN
METHOD:PUBLISH
X-PUBLISHED-TTL:P3D
REFRESH-INTERVAL:P3D
CALSCALE:GREGORIAN
BEGIN:VEVENT
DTSTART:20121225T210000Z
DTEND:20121226T000000Z
X-MICROSOFT-CDO-ALLDAYEVENT:FALSE
SUMMARY:Community Holiday Dinner
DESCRIPTION:Rotary Club of Sebastopol Sunrise will host a Community Holiday Dinner\, December 25.  Come One!  Come All!  this FREE event is for ANYONE who would like to enjoy a delicious feast\, music fun and toys for kids from Santa!    Contact us if you would like to volunteer\, donate food or money\, or to make special arrangements for delivered meals.  Need a ride to/from the dinner?  We will gladly\, arrange it for you.  Just let us know.
X-ALT-DESC;FMTTYPE=text/html:Rotary Club of Sebastopol Sunrise will host a Community Holiday Dinner\, December 25.  Come One!  Come All!  this FREE event is for ANYONE who would like to enjoy a delicious feast\, music fun and toys for kids from Santa!    Contact us if you would like to volunteer\, donate food or money\, or to make special arrangements for delivered meals.  Need a ride to/from the dinner?  We will gladly\, arrange it for you.  Just let us know.
LOCATION:Sebastopol Community Church Memorial Hall 1000 Gravenstein Hwy N Sebastopol
UID:e.3189.13500
SEQUENCE:3
DTSTAMP:20260422T040410Z
URL:https://business.sebastopol.org/events/details/community-holiday-dinner-12-25-2012-13500
END:VEVENT

END:VCALENDAR
