BEGIN:VCALENDAR
VERSION:2.0
PRODID:-//ChamberMaster//Event Calendar 2.0//EN
METHOD:PUBLISH
X-PUBLISHED-TTL:P3D
REFRESH-INTERVAL:P3D
CALSCALE:GREGORIAN
BEGIN:VEVENT
DTSTART:20150919T080000Z
DTEND:20150919T220000Z
X-MICROSOFT-CDO-ALLDAYEVENT:FALSE
SUMMARY:Community Open House
DESCRIPTION:Piazza Hospitality and David Baker Architects are inviting anyone interested to attend to learn more and provide your thoughts on a proposed 59 room art hotel\, restaurant\, spa\, workshop space and art studios at the former Diamond Lumberyard site\, 6828 Depot Street in downtown Sebastopol.
X-ALT-DESC;FMTTYPE=text/html:<!--  Visual Designer HTML -->Piazza Hospitality and David Baker Architects are inviting anyone interested to attend to learn more and provide your thoughts on a proposed 59 room art hotel\, restaurant\, spa\, workshop space and art studios at the former Diamond Lumberyard site\,&nbsp\;6828 Depot Street&nbsp\;in downtown Sebastopol.
LOCATION:Community Open House for proposed hotel use at the Diamond Lumber Yard site\, Sebastopol Open House Location: Youth Annex\, 425 Morris Street\, Sebastopol
UID:e.3189.5042741
SEQUENCE:3
DTSTAMP:20260419T192024Z
URL:https://business.sebastopol.org/events/details/community-open-house-09-19-2015-5042741
END:VEVENT

END:VCALENDAR
