BEGIN:VCALENDAR
VERSION:2.0
PRODID:-//ChamberMaster//Event Calendar 2.0//EN
METHOD:PUBLISH
X-PUBLISHED-TTL:P3D
REFRESH-INTERVAL:P3D
CALSCALE:GREGORIAN
BEGIN:VEVENT
DTSTART:20121122T210000Z
DTEND:20121123T010000Z
X-MICROSOFT-CDO-ALLDAYEVENT:FALSE
SUMMARY:Community Thanksgiving Dinner
DESCRIPTION:Please join us for the 12th Annual Community Thanksgiving Dinner!  A traditional Thanksgiving dinner with all the trimmings!   Everyone is welcome!  November 22\, 2012 Dinner served from 1 - 5 PM  Need a ride to dinner? Call 823-2484 before November 20 to arrange. Need more information or want to help? Call 823-2484
X-ALT-DESC;FMTTYPE=text/html:Please join us for the 12th Annual Community Thanksgiving Dinner!  A traditional Thanksgiving dinner with all the trimmings!   Everyone is welcome!  November 22\, 2012 Dinner served from 1 - 5 PM  Need a ride to dinner? Call 823-2484 before November 20 to arrange. Need more information or want to help? Call 823-2484
LOCATION:The Community church of Sebastopol\, UCC 1000 Gravenstein Hwy N Sebastopol
UID:e.3189.11302
SEQUENCE:3
DTSTAMP:20260422T053751Z
URL:https://business.sebastopol.org/events/details/community-thanksgiving-dinner-11-22-2012-11302
END:VEVENT

END:VCALENDAR
