BEGIN:VCALENDAR
VERSION:2.0
PRODID:-//ChamberMaster//Event Calendar 2.0//EN
METHOD:PUBLISH
X-PUBLISHED-TTL:P3D
REFRESH-INTERVAL:P3D
CALSCALE:GREGORIAN
BEGIN:VEVENT
DTSTART:20120904T181400Z
DTEND:20120904T181400Z
X-MICROSOFT-CDO-ALLDAYEVENT:FALSE
SUMMARY:Congressional Candidate Forum
DESCRIPTION:The League of Women Voters of Sonoma County and the Sonoma County Water Coalition are sponsoring a forum with the two Congressional candidates for the 2nd District: Jared Huffman (Democrat) and Dan Roberts (Republican). This educational public event will address all topics of concern to voters including water issues. There will be time for questions from the audience. Sebastopol Community Center\, 390 Morris Street\, Sebastopol\, Wed\, Sept 26\, 7:00 – 8:30 pm. 707-546-5943
X-ALT-DESC;FMTTYPE=text/html:The League of Women Voters of Sonoma County and the Sonoma County Water Coalition are sponsoring a forum with the two Congressional candidates for the 2nd District: Jared Huffman (Democrat) and Dan Roberts (Republican). This educational public event will address all topics of concern to voters including water issues. There will be time for questions from the audience. Sebastopol Community Center\, 390 Morris Street\, Sebastopol\, Wed\, Sept 26\, 7:00 – 8:30 pm. 707-546-5943
LOCATION:Sebastopol Community Center 390 Morris Street Sebastopol CA
UID:e.3189.8897
SEQUENCE:3
DTSTAMP:20260422T083750Z
URL:https://business.sebastopol.org/events/details/congressional-candidate-forum-09-04-2012-8897
END:VEVENT

END:VCALENDAR
