BEGIN:VCALENDAR
VERSION:2.0
PRODID:-//ChamberMaster//Event Calendar 2.0//EN
METHOD:PUBLISH
X-PUBLISHED-TTL:P3D
REFRESH-INTERVAL:P3D
CALSCALE:GREGORIAN
BEGIN:VEVENT
DTSTART:20150518T170000Z
DTEND:20150630T170000Z
X-MICROSOFT-CDO-ALLDAYEVENT:FALSE
SUMMARY:Costco's Graduation Catering Brochure
DESCRIPTION:Shopping for Upcoming Graduations! Look to Costco When Planning Your Party Menu.
X-ALT-DESC;FMTTYPE=text/html:Shopping for Upcoming Graduations! Look to Costco When Planning Your Party Menu.
LOCATION:Costco Wholesale 5901 Rewood Dr. Rohnert Park\, CA 94928
UID:e.3189.5042448
SEQUENCE:3
DTSTAMP:20260420T003344Z
URL:https://business.sebastopol.org/events/details/costco-s-graduation-catering-brochure-05-18-2015-5042448
END:VEVENT

END:VCALENDAR
