BEGIN:VCALENDAR
VERSION:2.0
PRODID:-//ChamberMaster//Event Calendar 2.0//EN
METHOD:PUBLISH
X-PUBLISHED-TTL:P3D
REFRESH-INTERVAL:P3D
CALSCALE:GREGORIAN
BEGIN:VEVENT
DTSTART:20141101T170000Z
DTEND:20141231T180000Z
X-MICROSOFT-CDO-ALLDAYEVENT:FALSE
SUMMARY:Costco Special Order Turkey/Pumpkin Pie's
DESCRIPTION:NOW taking orders for Large Volume Turkey & Fresh Baked Pumpkin Pie orders for the Holiday's
X-ALT-DESC;FMTTYPE=text/html:NOW taking orders for Large Volume Turkey & Fresh Baked Pumpkin Pie orders for the Holiday's
LOCATION:Costco\, Rohnert Park 5901 Redwood Dr. Rohnert Park\, CA 94928
UID:e.3189.5041649
SEQUENCE:3
DTSTAMP:20260420T101130Z
URL:https://business.sebastopol.org/events/details/costco-special-order-turkey-pumpkin-pie-s-11-01-2014-5041649
END:VEVENT

END:VCALENDAR
