BEGIN:VCALENDAR
VERSION:2.0
PRODID:-//ChamberMaster//Event Calendar 2.0//EN
METHOD:PUBLISH
X-PUBLISHED-TTL:P3D
REFRESH-INTERVAL:P3D
CALSCALE:GREGORIAN
BEGIN:VEVENT
DTSTART:20140816T170000Z
DTEND:20140818T010000Z
X-MICROSOFT-CDO-ALLDAYEVENT:FALSE
SUMMARY:Cotati Accordion Festival
DESCRIPTION:The 24th annual multi-cultural\, multi-generational\, nonprofit Cotati Accordion Festival.The event will be celebrating the International Cavalcade of Stars featuring Lulinha Alencal of Brazil\, Jinan Tian of China\, Vincenzo Abbracciante of Italy\, The Russian music of Trio Voronezh\, and the legendary Dick Contino of the U.S.A.  The festival will also include 20 accordion acts including the zydeco dance party\, the jam tent\, the polka tent\, food vendors\, beer\, wine\, and over 70 booths. Tickets are $15.00 in advance\, $17.00 at the gate and $25.00 for both days. They may be purchased by calling 1-888-559-2576\, or at People's Music\, The Last Record Store or at all three Oliver's Markets.
X-ALT-DESC;FMTTYPE=text/html:The 24th annual multi-cultural\, multi-generational\, nonprofit Cotati Accordion Festival.The event will be celebrating the International Cavalcade of Stars featuring Lulinha Alencal of Brazil\, Jinan Tian of China\, Vincenzo Abbracciante of Italy\, The Russian music of Trio Voronezh\, and the legendary Dick Contino of the U.S.A.  The festival will also include 20 accordion acts including the zydeco dance party\, the jam tent\, the polka tent\, food vendors\, beer\, wine\, and over 70 booths. Tickets are $15.00 in advance\, $17.00 at the gate and $25.00 for both days. They may be purchased by calling 1-888-559-2576\, or at People's Music\, The Last Record Store or at all three Oliver's Markets.
LOCATION:La Plaza Park in downtown Cotati
UID:e.3189.22802
SEQUENCE:3
DTSTAMP:20260419T123502Z
URL:https://business.sebastopol.org/events/details/cotati-accordion-festival-08-16-2014-22802
END:VEVENT

END:VCALENDAR
