BEGIN:VCALENDAR
VERSION:2.0
PRODID:-//ChamberMaster//Event Calendar 2.0//EN
METHOD:PUBLISH
X-PUBLISHED-TTL:P3D
REFRESH-INTERVAL:P3D
CALSCALE:GREGORIAN
BEGIN:VEVENT
DTSTART:20150822T163000Z
DTEND:20150824T030000Z
X-MICROSOFT-CDO-ALLDAYEVENT:FALSE
SUMMARY:Cotati Accordion Festival
DESCRIPTION:Summer will be SILVER in Cotati\, CA as the non-profit\, multi-cultural\, multi-generational COTATI ACCORDION FESTIVAL will be celebrating its SILVER ANNIVERSARY this coming August 22 and 23 in La Plaza Park in Downtown Cotati\, 9:30 am to 8 pm both days.\n\nFLACO JIMENEZ\, and his six grammys\, will be headlining the event which includes the New Polka Tent Bash\, The Jam Tent\, The Zydeco Dance Party\, the New Future Stars Stage\, the Apocalypse Stage\, over 70 vendors\, food\, beer\, wine. Tickets can be purchased in advance for $17 one day and $27 both days at all three Oliver's Markets or by calling 1-888-559-2576.
X-ALT-DESC;FMTTYPE=text/html:Summer will be SILVER in Cotati\, CA as the non-profit\, multi-cultural\, multi-generational COTATI ACCORDION FESTIVAL will be celebrating its SILVER ANNIVERSARY this coming August 22 and 23 in La Plaza Park in Downtown Cotati\, 9:30 am to 8 pm both days.\n\nFLACO JIMENEZ\, and his six grammys\, will be headlining the event which includes the New Polka Tent Bash\, The Jam Tent\, The Zydeco Dance Party\, the New Future Stars Stage\, the Apocalypse Stage\, over 70 vendors\, food\, beer\, wine. Tickets can be purchased in advance for $17 one day and $27 both days at all three Oliver's Markets or by calling 1-888-559-2576.
LOCATION:La Plaza Park Downtown Cotati
UID:e.3189.32449
SEQUENCE:3
DTSTAMP:20260419T210638Z
URL:https://business.sebastopol.org/events/details/cotati-accordion-festival-08-22-2015-32449
END:VEVENT

END:VCALENDAR
