BEGIN:VCALENDAR
VERSION:2.0
PRODID:-//ChamberMaster//Event Calendar 2.0//EN
METHOD:PUBLISH
X-PUBLISHED-TTL:P3D
REFRESH-INTERVAL:P3D
CALSCALE:GREGORIAN
BEGIN:VEVENT
DTSTART:20150518T000000Z
DTEND:20150518T023000Z
X-MICROSOFT-CDO-ALLDAYEVENT:FALSE
SUMMARY:County Line Trio: Salute to the Kingston Trio!
DESCRIPTION:This accomplished  trio has for 45 years performed their popular and entertaining show\, opening for Glenn Yarborough\, Teri Gibbs\, Pat Paulsen and others. They honor the original arrangements of the many hits of the legendary  Kingston Trio\, along with a generous amount of comedic banter. You’ll be tapping your toes and singing along ! so don’t miss this musical trip down Memory Lane. $15. Fine Refreshments. Wheelchair accessible.
X-ALT-DESC;FMTTYPE=text/html:This accomplished  trio has for 45 years performed their popular and entertaining show\, opening for Glenn Yarborough\, Teri Gibbs\, Pat Paulsen and others. They honor the original arrangements of the many hits of the legendary  Kingston Trio\, along with a generous amount of comedic banter. You’ll be tapping your toes and singing along ! so don’t miss this musical trip down Memory Lane. $15. Fine Refreshments. Wheelchair accessible.
LOCATION:Occidental Center for the Arts
UID:e.3189.32507
SEQUENCE:3
DTSTAMP:20260420T023823Z
URL:https://business.sebastopol.org/events/details/county-line-trio-salute-to-the-kingston-trio-05-17-2015-32507
END:VEVENT

END:VCALENDAR
