BEGIN:VCALENDAR
VERSION:2.0
PRODID:-//ChamberMaster//Event Calendar 2.0//EN
METHOD:PUBLISH
X-PUBLISHED-TTL:P3D
REFRESH-INTERVAL:P3D
CALSCALE:GREGORIAN
BEGIN:VEVENT
DTSTART:20150927T143000Z
DTEND:20150927T223000Z
X-MICROSOFT-CDO-ALLDAYEVENT:FALSE
SUMMARY:Creative Photography at the Laguna Workshop with professiona
DESCRIPTION:Creative Photography at the Laguna Workshop with\nprofessional photographers Susan and Neil Silverman\n\nSunday\, September 27\, 7:30am-3:30pm\n\nLaguna Environmental Center\, 900 Sanford Road\, Santa Rosa\, CA 95401 \n\n$75. Pre-registration required: www.lagunafoundation.org\n\n\n\n\nHere is a fun photo workshop for everyone!! What a beautiful place to\nphotograph not only the obvious\, but the subtle as well. In this workshop you\nwill work with creative techniques\, work with the lighting conditions (good and\nbad)\, spark your compositional ideas\, and come away with a “new” perspective on\nyour photography. Whatever equipment or experience you have\, we want you to be\nexcited and motivated to get GREAT photos\; no more “ho-hum” images. Today\neveryone is a photographer\, so why not aspire to have fun\, exciting\, beautiful\nimages. Be excited about your photos\, not underwhelmed. We will meet early in\nthe morning at Heron Hall then step out into the wonderful world of the Laguna\nfor a morning of photography and demonstrations. We will return to the\nhall for lunch (bring your own lunch\; drinks and light snacks provided) and an\nafternoon of discussions\, teaching\, and sharing knowledge\, exciting visual\nslide shows\, technique demonstrations\, and “take home” practical ideas. Plus\nyou will have the opportunity to win some wonderful free raffle prizes!!!
X-ALT-DESC;FMTTYPE=text/html:<!--  Visual Designer HTML --><span style="font-size:12.0pt\;&lt\;br/&gt\;font-family:&amp\;amp\;&lt\;br/&gt\;mso-bidi-language:AR-SA">Creative Photography at the Laguna Workshop with\nprofessional photographers Susan and Neil Silverman<br />\nSunday\, September 27\, 7:30am-3:30pm<br />\nLaguna Environmental Center\,&nbsp\;900 Sanford Road\, Santa Rosa\, CA 95401&nbsp\;<br />\n$75. Pre-registration required: <a href="http://www.lagunafoundation.org">www.lagunafoundation.org</a>\n<br />\n<br />\nHere is a fun photo workshop for everyone!! What a beautiful place to\nphotograph not only the obvious\, but the subtle as well. In this workshop you\nwill work with creative techniques\, work with the lighting conditions (good and\nbad)\, spark your compositional ideas\, and come away with a “new” perspective on\nyour photography. Whatever equipment or experience you have\, we want you to be\nexcited and motivated to get GREAT photos\; no more “ho-hum” images. Today\neveryone is a photographer\, so why not aspire to have fun\, exciting\, beautiful\nimages. Be excited about your photos\, not underwhelmed. We will meet early in\nthe morning at Heron Hall then step out into the wonderful world of the Laguna\nfor a morning of photography and demonstrations.&nbsp\;We will return to the\nhall for lunch (bring your own lunch\; drinks and light snacks provided) and an\nafternoon of discussions\, teaching\, and sharing knowledge\, exciting visual\nslide shows\, technique demonstrations\, and “take home” practical ideas. Plus\nyou will have the opportunity to win some wonderful free raffle prizes!!!</span>
LOCATION:Laguna Environmental Center\, 900 Sanford Road\, Santa Rosa\, CA 95401
UID:e.3189.5042738
SEQUENCE:3
DTSTAMP:20260419T210514Z
URL:https://business.sebastopol.org/events/details/creative-photography-at-the-laguna-workshop-with-professiona-09-27-2015-5042738
END:VEVENT

END:VCALENDAR
