BEGIN:VCALENDAR
VERSION:2.0
PRODID:-//ChamberMaster//Event Calendar 2.0//EN
METHOD:PUBLISH
X-PUBLISHED-TTL:P3D
REFRESH-INTERVAL:P3D
CALSCALE:GREGORIAN
BEGIN:VEVENT
DTSTART:20150802T020000Z
DTEND:20150802T020000Z
X-MICROSOFT-CDO-ALLDAYEVENT:FALSE
SUMMARY:Curtain Call Theater Champagne Gala Fundraiser
DESCRIPTION:July 31\, 8:00 pm"We Won't Pay! We\nWon't Pay!"\; production by Curtain Call Theatre\,Play by Dario Fo\;\ndirected by Michael Tabib"Comedic Farce\nabout desperate housewives who resort to shoplifting some groceriesin hard times to make\nends meet.  Delivers many good laughs and some food for thought!"Tickets:Seniors and Students\n$15\, General $20.Champagne Gala\nFundraiser:  August 1\, 7:00Tickets $40 and include\nwine and non-alcoholic drinks and a sumptuous buffet!Thank you!
X-ALT-DESC;FMTTYPE=text/html:<!--  Visual Designer HTML --><span style="background-color: white">July 31\, 8:00 pm</span><p style="background:white">&quot\;We Won&#39\;t Pay! We\nWon&#39\;t Pay!&quot\;\; production by Curtain Call Theatre\,</p><p style="background:white">Play by Dario Fo\;\ndirected by Michael Tabib</p><p style="background:white">&quot\;Comedic Farce\nabout desperate housewives who resort to shoplifting some groceries</p><p style="background:white">in hard times to make\nends meet. &nbsp\;Delivers many good laughs and some food for thought!&quot\;</p><p style="background:white">Tickets:</p><p style="background:white">Seniors and Students\n$15\, General $20.</p><p style="background:white">Champagne Gala\nFundraiser: &nbsp\;August 1\, 7:00</p><p style="background:white">Tickets $40 and include\nwine and non-alcoholic drinks and a sumptuous buffet!</p><p style="background:white">Thank you!</p>
LOCATION:Russian River Hall20347 Hwy 116Monte Rio\, CA
UID:e.3189.5042701
SEQUENCE:3
DTSTAMP:20260419T223832Z
URL:https://business.sebastopol.org/events/details/curtain-call-theater-champagne-gala-fundraiser-08-01-2015-5042701
END:VEVENT

END:VCALENDAR
