BEGIN:VCALENDAR
VERSION:2.0
PRODID:-//ChamberMaster//Event Calendar 2.0//EN
METHOD:PUBLISH
X-PUBLISHED-TTL:P3D
REFRESH-INTERVAL:P3D
CALSCALE:GREGORIAN
BEGIN:VEVENT
DTSTART:20150430T223000Z
DTEND:20150430T233000Z
X-MICROSOFT-CDO-ALLDAYEVENT:FALSE
SUMMARY:Dia de los Ninos Celebration
DESCRIPTION:El dia de los ninos is and international and extra special day of honoring and celebrating children.  Families are invited to a fun\, bilingual music program with Juan Sanchez!  This is a multicultural celebration featuring interactive children's songs and games\, and honoring all cultures and families.  Familias estan invitados a un program bilingue de musica y diversion.  Esta es una celebracion multicultural con musica y juegos interactivos para ninos en honor de todas las culturas y familias.
X-ALT-DESC;FMTTYPE=text/html:El dia de los ninos is and international and extra special day of honoring and celebrating children.  Families are invited to a fun\, bilingual music program with Juan Sanchez!  This is a multicultural celebration featuring interactive children's songs and games\, and honoring all cultures and families.  Familias estan invitados a un program bilingue de musica y diversion.  Esta es una celebracion multicultural con musica y juegos interactivos para ninos en honor de todas las culturas y familias.
LOCATION:Sebastopol Regional Library 7140 Bodega Avenue\, Sebastopol
UID:e.3189.5042322
SEQUENCE:3
DTSTAMP:20260420T040011Z
URL:https://business.sebastopol.org/events/details/dia-de-los-ninos-celebration-04-30-2015-5042322
END:VEVENT

END:VCALENDAR
