BEGIN:VCALENDAR
VERSION:2.0
PRODID:-//ChamberMaster//Event Calendar 2.0//EN
METHOD:PUBLISH
X-PUBLISHED-TTL:P3D
REFRESH-INTERVAL:P3D
CALSCALE:GREGORIAN
BEGIN:VEVENT
DTSTART:20150926T183000Z
DTEND:20150927T040000Z
X-MICROSOFT-CDO-ALLDAYEVENT:FALSE
SUMMARY:DINE AND DONATE for VALLEY FIRE VICTIMS
DESCRIPTION:DINE AND DONATE FUNDRAISER FOR THE VALLEY FIRE VICTIMS20% OF SALES WILL BE DONATEDFROM THE LUNCH AND DINNER PROCEEDSLUNCH TIME 11:30 AM -2:00P.M. DINNER HOURS 5:00 PM - 9PM PLEASE HELP THEM BY JOINING US
X-ALT-DESC;FMTTYPE=text/html:<!--  Visual Designer HTML --><p>DINE AND DONATE FUNDRAISER FOR THE VALLEY FIRE VICTIMS</p><p>20% OF SALES WILL BE DONATED</p><p>FROM THE LUNCH AND DINNER PROCEEDS</p><p>LUNCH TIME 11:30 AM -2:00P.M.&nbsp\;</p><p>DINNER HOURS 5:00 PM - 9PM</p><p>&nbsp\;</p><p>PLEASE HELP THEM BY JOINING US </p>
LOCATION:MARIGOLD INDIAN BISTRO7225 Healdsburg Ave. Sebastopol
UID:e.3189.35427
SEQUENCE:3
DTSTAMP:20260419T210330Z
URL:https://business.sebastopol.org/events/details/dine-and-donate-for-valley-fire-victims-09-26-2015-35427
END:VEVENT

END:VCALENDAR
