BEGIN:VCALENDAR
VERSION:2.0
PRODID:-//ChamberMaster//Event Calendar 2.0//EN
METHOD:PUBLISH
X-PUBLISHED-TTL:P3D
REFRESH-INTERVAL:P3D
CALSCALE:GREGORIAN
BEGIN:VEVENT
DTSTART:20141205T023000Z
DTEND:20151115T020000Z
X-MICROSOFT-CDO-ALLDAYEVENT:FALSE
SUMMARY:Dining Out for Life
DESCRIPTION:SONOMA COUNTY - Food For Thought\, Sonoma County AIDS Food Bank presents the 14th annual Dining Out For Life on Thursday\, December 4\, 2014. Eighty-one Sonoma County restaurants will participate\, donating 25% or 50% of the day’s sales to Food For Thought.
X-ALT-DESC;FMTTYPE=text/html:SONOMA COUNTY - Food For Thought\, Sonoma County AIDS Food Bank presents the 14th annual Dining Out For Life on Thursday\, December 4\, 2014. Eighty-one Sonoma County restaurants will participate\, donating 25% or 50% of the day’s sales to Food For Thought.
LOCATION:
UID:e.3189.27616
SEQUENCE:3
DTSTAMP:20260419T161202Z
URL:https://business.sebastopol.org/events/details/dining-out-for-life-12-04-2014-27616
END:VEVENT

END:VCALENDAR
