BEGIN:VCALENDAR
VERSION:2.0
PRODID:-//ChamberMaster//Event Calendar 2.0//EN
METHOD:PUBLISH
X-PUBLISHED-TTL:P3D
REFRESH-INTERVAL:P3D
CALSCALE:GREGORIAN
BEGIN:VEVENT
DTSTART:20151212T040000Z
DTEND:20151220T040000Z
X-MICROSOFT-CDO-ALLDAYEVENT:FALSE
SUMMARY:Don Juan In Hell
DESCRIPTION:"Don Juan in Hell" by George Bernard Shaw by Curtain Call Theatre in Monte Rio. The Shavian humorous\, naughty play on the proverbial battle of the sexes from Man and Superman. Five performances only December 11\, 12\, 13th (Matinee at 3 pm) 18\, 19\, the last being the Traditional Gala full buffet with champagne\, wines\, desserts. Reservations and details call 707-524-8739.
X-ALT-DESC;FMTTYPE=text/html:<!--  Visual Designer HTML --><p>&quot\;Don Juan in Hell&quot\; by George Bernard Shaw by Curtain Call Theatre in Monte Rio. The Shavian humorous\, naughty play on the proverbial battle of the sexes from Man and Superman. Five performances only December 11\, 12\, 13th (Matinee at 3 pm) 18\, 19\, the last being the Traditional Gala full buffet with champagne\, wines\, desserts. Reservations and details call&nbsp\;<a href="http://cca.sebastopol.org/webforms/tel:707-524-8739" target="_blank">707-524-8739</a>.</p>
LOCATION:Russian River Hall\, 20347 Hwy 116\, Monte Rio\, CA 95462
UID:e.3189.5042957
SEQUENCE:3
DTSTAMP:20260419T142803Z
URL:https://business.sebastopol.org/events/details/don-juan-in-hell-12-11-2015-5042957
END:VEVENT

END:VCALENDAR
