BEGIN:VCALENDAR
VERSION:2.0
PRODID:-//ChamberMaster//Event Calendar 2.0//EN
METHOD:PUBLISH
X-PUBLISHED-TTL:P3D
REFRESH-INTERVAL:P3D
CALSCALE:GREGORIAN
BEGIN:VEVENT
DTSTART:20160117T040000Z
DTEND:20160117T220000Z
X-MICROSOFT-CDO-ALLDAYEVENT:FALSE
SUMMARY:''Don Juan in Hell'':A Benefit for Russian River Health Center
DESCRIPTION:Curtain Call Theater presents "Don Juan in Hell": two special performances benefitting the Russian River Health Center\, which suffered a major arson fire in December. The performances will take place at Russian River Hall in Monte Rio and are scheduled for Saturday\, January 16 at 8:00pm and Sunday\, January 17 at 2:00pm. This will be a fully staged reading of 'Don Juan in Hell\," George Bernard Shaw's witty and acerbic play about good and evil and the eternal battle of the sexes. Minimum donation of $20\; larger ones would be most appreciated. Reservations are strongly advised and can be made by calling: (707) 524-8739.
X-ALT-DESC;FMTTYPE=text/html:<!--  Visual Designer HTML --><p> Curtain Call Theater presents "Don Juan in Hell": two special performances benefitting the Russian River Health Center\, which suffered a major arson fire in December.</p><p>&nbsp\;</p><p>The performances will take place at Russian River Hall in Monte Rio and are scheduled for Saturday\, January 16 at 8:00pm and Sunday\, January 17 at 2:00pm. This will be a fully staged reading of 'Don Juan in Hell\," George Bernard Shaw's witty and acerbic play about good and evil and the eternal battle of the sexes.</p><p>&nbsp\;</p><p>Minimum donation of $20\; larger ones would be most appreciated.</p><p>&nbsp\;</p><p>Reservations are strongly advised and can be made by calling: (<span style="color: black">707) 524-8739.</span></p>
LOCATION:Russian River Hall 20347 Hwy 116 Monte Rio
UID:e.3189.5042987
SEQUENCE:3
DTSTAMP:20260419T125421Z
URL:https://business.sebastopol.org/events/details/don-juan-in-hell-a-benefit-for-russian-river-health-center-01-16-2016-5042987
END:VEVENT

END:VCALENDAR
