BEGIN:VCALENDAR
VERSION:2.0
PRODID:-//ChamberMaster//Event Calendar 2.0//EN
METHOD:PUBLISH
X-PUBLISHED-TTL:P3D
REFRESH-INTERVAL:P3D
CALSCALE:GREGORIAN
BEGIN:VEVENT
DTSTART:20130525T170000Z
DTEND:20130525T230000Z
X-MICROSOFT-CDO-ALLDAYEVENT:FALSE
SUMMARY:Driven to Perfection
DESCRIPTION:Classic Car Show & Cruise to Benefit Sebastopol Area Senior Center
X-ALT-DESC;FMTTYPE=text/html:Classic Car Show & Cruise to Benefit Sebastopol Area Senior Center
LOCATION:O'Reilly Media\, 1005 Gravenstein Hwy No.
UID:e.3189.5040491
SEQUENCE:3
DTSTAMP:20260421T215608Z
URL:https://business.sebastopol.org/events/details/driven-to-perfection-05-25-2013-5040491
END:VEVENT

END:VCALENDAR
