BEGIN:VCALENDAR
VERSION:2.0
PRODID:-//ChamberMaster//Event Calendar 2.0//EN
METHOD:PUBLISH
X-PUBLISHED-TTL:P3D
REFRESH-INTERVAL:P3D
CALSCALE:GREGORIAN
BEGIN:VEVENT
DTSTART:20160109T180000Z
DTEND:20160109T230000Z
X-MICROSOFT-CDO-ALLDAYEVENT:FALSE
SUMMARY:Ducks Day! Laguna Environmental Center Open House!
DESCRIPTION:Ducks Day!!! Laguna Environmental Center Open House\, Special Activities and Presentation--All About Waterfowl!\n\n \n\nOur Second Saturday of the Month Open House in January will be all about DUCKS and other waterfowl! There will be special educational displays and fun\, hands-on activities for all ages. \n\n \n\nFREE! No RSVP necessary.  \n\n \n\n(Also join us Sunday\, January 10\, 7:30-11am for a waterfowl walk with Dave Barry along the Laguna. $30. Pre-registration required for the walk: http://www.lagunafoundation.org/laguna_walks_classes.shtml  \n\n \n\nDave Barry is a certified California Naturalist\, a certification program created by UC Berkeley and UC Davis. Dave brings a breath of experience and knowledge of birding and nature to his volunteer work mentoring young birders\, leading bird tours and nature hikes\, and giving natural history talks. Dave is a Santa Rosa native and has done programs with LandPaths\, Sonoma Land Trust\, Sonoma County Agricultural Preservation and Open Space District\, the Wildlife Conservancy\, and is a lead naturalist with West County Hawk Watch.)
X-ALT-DESC;FMTTYPE=text/html:<!--  Visual Designer HTML --><p style="margin: 0in 0in 0.0001pt\; background-image: initial\; background-attachment: initial\; background-size: initial\; background-origin: initial\; background-clip: initial"><span style="text-decoration:underline\;font-size:12px"><strong><span style="font-weight: bold\;"><span style="font-weight: bold\;">Ducks Day!!! Laguna Environmental Center Open House\, Special Activities and Presentation--All About Waterfowl!</span></span></strong></span></p>\n\n<p style="margin: 0in 0in 0.0001pt\; background-image: initial\; background-attachment: initial\; background-size: initial\; background-origin: initial\; background-clip: initial">&nbsp\;</p>\n\n<p style="margin: 0in 0in 0.0001pt\; background-image: initial\; background-attachment: initial\; background-size: initial\; background-origin: initial\; background-clip: initial">Our Second Saturday of the Month Open House in January will be all about DUCKS and other waterfowl! There will be special educational displays and fun\, hands-on activities for all ages. </p>\n\n<p>&nbsp\;</p>\n\n<p><strong><span style="font-weight: bold\;"><span style="font-weight: bold\;"><span style="font-weight: bold\;"><span style="font-weight: bold\;"><span style="font-weight: bold\;"><span style="font-weight: bold\;">FREE! No RSVP necessary. &nbsp\;</span></span></span></span></span></span></strong></p>\n\n<p>&nbsp\;</p>\n\n<p><b>(Also join us Sunday\, January 10\, 7:30-11am</b>&nbsp\;for a&nbsp\;<u>waterfowl walk</u>&nbsp\;with Dave Barry along the Laguna. $30. Pre-registration required for the walk:&nbsp\;<a href="http://www.lagunafoundation.org/laguna_walks_classes.shtml">http://www.lagunafoundation.org/laguna_walks_classes.shtml</a>&nbsp\;&nbsp\;</p>\n\n<p style="margin: 0in 0in 0.0001pt\; background-image: initial\; background-attachment: initial\; background-size: initial\; background-origin: initial\; background-clip: initial"><b>&nbsp\;</b></p>\n\n<p style="margin: 0in 0in 0.0001pt\; background-image: initial\; background-attachment: initial\; background-size: initial\; background-origin: initial\; background-clip: initial">Dave Barry is a certified California Naturalist\, a certification program created by UC Berkeley and UC Davis. Dave brings a breath of experience and knowledge of birding and nature to his volunteer work mentoring young birders\, leading bird tours and nature hikes\, and giving natural history talks. Dave is a Santa Rosa native and has done programs with LandPaths\, Sonoma Land Trust\, Sonoma County Agricultural Preservation and Open Space District\, the Wildlife Conservancy\, and is a lead naturalist with&nbsp\;West County Hawk Watch.)<br />\n</p>&nbsp\;&nbsp\;
LOCATION:Heron Hall\, Laguna Environmental Center900 Sanford RoadSanta Rosa\, CA 94928
UID:e.3189.5042948
SEQUENCE:3
DTSTAMP:20260419T125226Z
URL:https://business.sebastopol.org/events/details/ducks-day-laguna-environmental-center-open-house-01-09-2016-5042948
END:VEVENT

END:VCALENDAR
