BEGIN:VCALENDAR
VERSION:2.0
PRODID:-//ChamberMaster//Event Calendar 2.0//EN
METHOD:PUBLISH
X-PUBLISHED-TTL:P3D
REFRESH-INTERVAL:P3D
CALSCALE:GREGORIAN
BEGIN:VEVENT
DTSTART:20120922T190000Z
DTEND:20120923T010000Z
X-MICROSOFT-CDO-ALLDAYEVENT:FALSE
SUMMARY:EarleFest – 5th Annual Americana Festival
DESCRIPTION:EarleFest is Northern California’s premier Americana music festival! Located on the beautiful grounds of the Earle Baum Center in Santa Rosa\, EarleFest features a stellar lineup of national and regional Americana musicians: Rodney Crowell\, Carolyn Wonderland\, Poor Man's Whiskey\, David Luning Band! A delightful array of Sonoma County edibles\, beer and wine. Dynamite Silent Auction. Bring the family to celebrate Americana and the musical heritage of Earle Baum at the EarleFest 2012!  Saturday\, September 22\, 2012 12-6pm (Doors at 11am) $25 Advance/$30 Day of (under 10 free)   All proceeds benefit the Earle Baum Center of the Blind
X-ALT-DESC;FMTTYPE=text/html:EarleFest is Northern California’s premier Americana music festival! Located on the beautiful grounds of the Earle Baum Center in Santa Rosa\, EarleFest features a stellar lineup of national and regional Americana musicians: Rodney Crowell\, Carolyn Wonderland\, Poor Man's Whiskey\, David Luning Band! A delightful array of Sonoma County edibles\, beer and wine. Dynamite Silent Auction. Bring the family to celebrate Americana and the musical heritage of Earle Baum at the EarleFest 2012!  Saturday\, September 22\, 2012 12-6pm (Doors at 11am) $25 Advance/$30 Day of (under 10 free)   All proceeds benefit the Earle Baum Center of the Blind
LOCATION:Earle Baum Center of the Blind 4539 Occidental Road\, Santa Rosa CA 95401 Just west of Santa Rosa\, off Highway 12 on Occidental Road
UID:e.3189.8821
SEQUENCE:3
DTSTAMP:20260422T085311Z
URL:https://business.sebastopol.org/events/details/earlefest-5th-annual-americana-festival-09-22-2012-8821
END:VEVENT

END:VCALENDAR
