BEGIN:VCALENDAR
VERSION:2.0
PRODID:-//ChamberMaster//Event Calendar 2.0//EN
METHOD:PUBLISH
X-PUBLISHED-TTL:P3D
REFRESH-INTERVAL:P3D
CALSCALE:GREGORIAN
BEGIN:VEVENT
DTSTART:20150926T180000Z
DTEND:20150927T010000Z
X-MICROSOFT-CDO-ALLDAYEVENT:FALSE
SUMMARY:EarleFest - 8th Annual Americana Music Festival
DESCRIPTION:EarleFest is Northern California’s premier Americana music festival! Located on the beautiful grounds of the Earle Baum Center in Santa Rosa\, EarleFest features a stellar lineup of national and regional Americana musicians. \nMain Stage: John Hiatt\, Doyle Bramhall II\, Amy McCarley\, One Grass Two Grass. \nHopmonk Stage: Lazyman\, John Courage and Bear's Belly.\nA delightful array of Sonoma County edibles\, beer and wine. \n$45 Advance $50 Day of (Kids under 10 free)\nGreat Music    Great Food & Drink    Terrific Vibes    and a Really Great Cause!\nhttp://www.earlefest.com\n\nEarleFest is a fundraiser for the Earle Baum Center. All event proceeds underwrite vision rehabilitation services for people with sight loss.
X-ALT-DESC;FMTTYPE=text/html:EarleFest is Northern California’s premier Americana music festival! Located on the beautiful grounds of the Earle Baum Center in Santa Rosa\, EarleFest features a stellar lineup of national and regional Americana musicians. \nMain Stage: John Hiatt\, Doyle Bramhall II\, Amy McCarley\, One Grass Two Grass. \nHopmonk Stage: Lazyman\, John Courage and Bear's Belly.\nA delightful array of Sonoma County edibles\, beer and wine. \n$45 Advance $50 Day of (Kids under 10 free)\nGreat Music    Great Food & Drink    Terrific Vibes    and a Really Great Cause!\nhttp://www.earlefest.com\n\nEarleFest is a fundraiser for the Earle Baum Center. All event proceeds underwrite vision rehabilitation services for people with sight loss.
LOCATION:Earle Baum Center of the Blind 4539 Occidental Road Santa Rosa CA 95401
UID:e.3189.5042506
SEQUENCE:3
DTSTAMP:20260419T192725Z
URL:https://business.sebastopol.org/events/details/earlefest-8th-annual-americana-music-festival-09-26-2015-5042506
END:VEVENT

END:VCALENDAR
