BEGIN:VCALENDAR
VERSION:2.0
PRODID:-//ChamberMaster//Event Calendar 2.0//EN
METHOD:PUBLISH
X-PUBLISHED-TTL:P3D
REFRESH-INTERVAL:P3D
CALSCALE:GREGORIAN
BEGIN:VEVENT
DTSTART:20151212T220000Z
DTEND:20151213T000000Z
X-MICROSOFT-CDO-ALLDAYEVENT:FALSE
SUMMARY:El Niño and Protecting your Home
DESCRIPTION:Worried about El Ni o and want to learn how to protect your home?Join an earth sciences expert and experienced contractor to learn the facts about the forecasts for this Winter as well as practical\, helpful tips to winterize your home and prepare for heavy rains.Featuring: Gregory Beale\, Expert Contractor and Art Hayssen\, Meteorology Instructor\, SRJC
X-ALT-DESC;FMTTYPE=text/html:<!--  Visual Designer HTML --><span style="color: #2d2319\; font-size: 16px\; line-height: 1.6\; background-color: #ffffff">Worried about El Ni&#241\;o and want to learn how to protect your home?</span><p style="box-sizing: border-box\; margin: 0px 0px 1.25em\; direction: ltr\; font-size: 16px\; line-height: 1.6\; text-rendering: optimizeLegibility\; color: #2d2319\; background-color: #ffffff">Join an earth sciences expert and experienced contractor to learn the facts about the forecasts for this Winter as well as practical\, helpful tips to winterize your home and prepare for heavy rains.</p><p style="box-sizing: border-box\; margin: 0px 0px 1.25em\; direction: ltr\; font-size: 16px\; line-height: 1.6\; text-rendering: optimizeLegibility\; color: #2d2319\; background-color: #ffffff">Featuring:&nbsp\;Gregory Beale\, Expert Contractor and&nbsp\;Art Hayssen\, Meteorology Instructor\, SRJC</p>
LOCATION:Sebastopol Regional Library7140 Bodega AveSebastopol\, CA 95472
UID:e.3189.5042924
SEQUENCE:3
DTSTAMP:20260419T142933Z
URL:https://business.sebastopol.org/events/details/el-ni&#241;o-and-protecting-your-home-12-12-2015-5042924
END:VEVENT

END:VCALENDAR
