BEGIN:VCALENDAR
VERSION:2.0
PRODID:-//ChamberMaster//Event Calendar 2.0//EN
METHOD:PUBLISH
X-PUBLISHED-TTL:P3D
REFRESH-INTERVAL:P3D
CALSCALE:GREGORIAN
BEGIN:VEVENT
DTSTART:20150719T170000Z
DTEND:20150720T000000Z
X-MICROSOFT-CDO-ALLDAYEVENT:FALSE
SUMMARY:Enmanji Temple Teriyaki BBQ and Bazaar
DESCRIPTION:Enjoy traditional Japanese food and culture at the Enmanji Temple BBQ and Bazaar\, which attracts thousands of Bay Area residents to Sebastopol.\nThe surrounding Japanese community refers to the Enmanji event as the “grandfather of Bay Area teriyaki barbecues.” Marinating and barbecuing chicken is common now\, but 60 years ago\, it was quite unique to the general public. Enmanji Temple members were the first in the Bay Area to feature chicken teriyaki BBQ fundraisers as a way to share their Japanese heritage with their neighbors.
X-ALT-DESC;FMTTYPE=text/html:Enjoy traditional Japanese food and culture at the Enmanji Temple BBQ and Bazaar\, which attracts thousands of Bay Area residents to Sebastopol.\nThe surrounding Japanese community refers to the Enmanji event as the “grandfather of Bay Area teriyaki barbecues.” Marinating and barbecuing chicken is common now\, but 60 years ago\, it was quite unique to the general public. Enmanji Temple members were the first in the Bay Area to feature chicken teriyaki BBQ fundraisers as a way to share their Japanese heritage with their neighbors.
LOCATION:Enmanji Temple\, 1200 Gravenstein Highway\, Sebastopol.
UID:e.3189.5042537
SEQUENCE:3
DTSTAMP:20260419T231122Z
URL:https://business.sebastopol.org/events/details/enmanji-temple-teriyaki-bbq-and-bazaar-07-19-2015-5042537
END:VEVENT

END:VCALENDAR
