BEGIN:VCALENDAR
VERSION:2.0
PRODID:-//ChamberMaster//Event Calendar 2.0//EN
METHOD:PUBLISH
X-PUBLISHED-TTL:P3D
REFRESH-INTERVAL:P3D
CALSCALE:GREGORIAN
BEGIN:VEVENT
DTSTART:20150823T023000Z
DTEND:20150823T053000Z
X-MICROSOFT-CDO-ALLDAYEVENT:FALSE
SUMMARY:Evening of Improvisation
DESCRIPTION:A night of excellent theater\, all made up on the spot! Directed by Alumni of The Second City\, Chicago\, this is Improv like you’ve never seen it before\;  hilarious\, heartbreaking and everything in between. Come see what happens! $10 payable at the door. No advance reservations.Notice:  This show might contain adult themes and swearing. Of course\, it’s Improv so you never know but I’d count on at least some of that flavor.
X-ALT-DESC;FMTTYPE=text/html:<!--  Visual Designer HTML --><p><span style="font-size:16px"> A night of excellent theater\, all made up on the spot! </span></p><p><span style="font-size:16px">Directed by Alumni of The Second City\, Chicago\, this is Improv like you’ve never seen it before\; &nbsp\;hilarious\, heartbreaking and everything in between. Come see what happens! $10 payable at the door.</span></p><p><span style="font-size:16px"> No advance reservations.</span></p><div><span style="font-size:16px"><strong>Notice:</strong></span><span style="font-size:16px"> &nbsp\;This show might contain adult themes and swearing. Of course\, it’s Improv so you never know but I’d count on at least some of that flavor.</span></div>
LOCATION:3850 Doris Murphy Ct Occidental\, CA 95465
UID:e.3189.5042686
SEQUENCE:3
DTSTAMP:20260419T210201Z
URL:https://business.sebastopol.org/events/details/evening-of-improvisation-08-22-2015-5042686
END:VEVENT

END:VCALENDAR
