BEGIN:VCALENDAR
VERSION:2.0
PRODID:-//ChamberMaster//Event Calendar 2.0//EN
METHOD:PUBLISH
X-PUBLISHED-TTL:P3D
REFRESH-INTERVAL:P3D
CALSCALE:GREGORIAN
BEGIN:VEVENT
DTSTART:20130509T150000Z
DTEND:20130509T190000Z
X-MICROSOFT-CDO-ALLDAYEVENT:FALSE
SUMMARY:Export University 2013
DESCRIPTION:You are invited to a special opportunity that will help your company leverage economic recovery by expanding to global markets!  Click the flyer below to register. Advance registration closes May 6th\, so register soon! We will see you at Export University 2013 in Petaluma! This informative seminar will highlight approaches to export logistics\, financing\, global marketing and more. For more information\, visit SonomaEDB.org\, or contact Ethan Brown at ethan.brown@sonoma-county.org  or (707) 565-7589
X-ALT-DESC;FMTTYPE=text/html:You are invited to a special opportunity that will help your company leverage economic recovery by expanding to global markets!  Click the flyer below to register. Advance registration closes May 6th\, so register soon! We will see you at Export University 2013 in Petaluma! This informative seminar will highlight approaches to export logistics\, financing\, global marketing and more. For more information\, visit SonomaEDB.org\, or contact Ethan Brown at ethan.brown@sonoma-county.org <mailto:ethan.brown@sonoma-county.org> or (707) 565-7589
LOCATION:Rooster Run Golf Course
UID:e.3189.15454
SEQUENCE:3
DTSTAMP:20260421T203024Z
URL:https://business.sebastopol.org/events/details/export-university-2013-05-09-2013-15454
END:VEVENT

END:VCALENDAR
