BEGIN:VCALENDAR
VERSION:2.0
PRODID:-//ChamberMaster//Event Calendar 2.0//EN
METHOD:PUBLISH
X-PUBLISHED-TTL:P3D
REFRESH-INTERVAL:P3D
CALSCALE:GREGORIAN
BEGIN:VEVENT
DTSTART:20130222T023000Z
DTEND:20130222T043000Z
X-MICROSOFT-CDO-ALLDAYEVENT:FALSE
SUMMARY:Facebook for Business - Free Class Sponsored by SEP
DESCRIPTION:Fabulous Facebook for Business\nMillions of people are on Facebook on a daily basis and your business can have a powerful presence there\, too! In this session with Karen Clark you'll learn the benefits of creating an effective business Facebook presence\, without sacrificing a single minute of productivity. Stand out on Facebook and in the search engines by learning exactly what to do in order to achieve the greatest effect for your time. Learn\n\n-How to clearly define and separate your personal and professional Facebook presence\n-How to attract and engage with your target market on Facebook\n-Little known tips and tricks for maximizing your time on Facebook\n-Answers to your Facebook marketing questions\n\nAbout Our Presenter:\nKaren Clark is a social media marketing trainer whose emphasis is on connecting with people\, not collecting people. Karen is dedicated to working with entrepreneurs as they master the world of social media through her online courses and consulting. Karen is known for her ability to simplify even the most advanced social media concepts which leave her audiences feeling empowered to tackle technology.
X-ALT-DESC;FMTTYPE=text/html:Fabulous Facebook for Business\nMillions of people are on Facebook on a daily basis and your business can have a powerful presence there\, too! In this session with Karen Clark you'll learn the benefits of creating an effective business Facebook presence\, without sacrificing a single minute of productivity. Stand out on Facebook and in the search engines by learning exactly what to do in order to achieve the greatest effect for your time. Learn\n\n-How to clearly define and separate your personal and professional Facebook presence\n-How to attract and engage with your target market on Facebook\n-Little known tips and tricks for maximizing your time on Facebook\n-Answers to your Facebook marketing questions\n\nAbout Our Presenter:\nKaren Clark is a social media marketing trainer whose emphasis is on connecting with people\, not collecting people. Karen is dedicated to working with entrepreneurs as they master the world of social media through her online courses and consulting. Karen is known for her ability to simplify even the most advanced social media concepts which leave her audiences feeling empowered to tackle technology.
LOCATION:O'Reilly Media 1005 Gravenstein Hwy\, North Sebastopol
UID:e.3189.5040393
SEQUENCE:3
DTSTAMP:20260422T010410Z
URL:https://business.sebastopol.org/events/details/facebook-for-business-free-class-sponsored-by-sep-02-21-2013-5040393
END:VEVENT

END:VCALENDAR
