BEGIN:VCALENDAR
VERSION:2.0
PRODID:-//ChamberMaster//Event Calendar 2.0//EN
METHOD:PUBLISH
X-PUBLISHED-TTL:P3D
REFRESH-INTERVAL:P3D
CALSCALE:GREGORIAN
BEGIN:VEVENT
DTSTART:20150711T070000Z
DTEND:20150711T070000Z
X-MICROSOFT-CDO-ALLDAYEVENT:FALSE
SUMMARY:FAMILY DAY IN YOUR PARK
DESCRIPTION:This year Stewards is celebrating our 30th Anniversary as a Cooperating Association working to support State Parks.\nWe free Bi-lingual (Spanish & English) nature activities in the picnic area at Armstrong Redwoods. We will also feature horse and carriage rides in the park for a fee\, speakers\, family entertainment and food and beverages. In addition\, our summer auction will end at this event. \n\nEntertainment: TBD\n\nActividades usando la Naturaleza • Comida • Música • Oradores • Almoneda\nExhibitor Application - We invite environmental and community organizations to apply to have an exhibit at our event. \nHorse and Carriage Rides (Paseos en Vagon de Caballo)\n$5 (16 yrs+)\, $3 (3-15 yrs)\, under (menor de) 3 free (gratis)\n\nParking: There will be designated parking near the park entrance and a shuttle for those in need. It is a 3/4 mile walk to the picnic area. You can also park in the picnic area for the normal day-use parking fee of $8 per vehicle.
X-ALT-DESC;FMTTYPE=text/html:This year Stewards is celebrating our 30th Anniversary as a Cooperating Association working to support State Parks.\nWe free Bi-lingual (Spanish & English) nature activities in the picnic area at Armstrong Redwoods. We will also feature horse and carriage rides in the park for a fee\, speakers\, family entertainment and food and beverages. In addition\, our summer auction will end at this event. \n\nEntertainment: TBD\n\nActividades usando la Naturaleza • Comida • Música • Oradores • Almoneda\nExhibitor Application - We invite environmental and community organizations to apply to have an exhibit at our event. \nHorse and Carriage Rides (Paseos en Vagon de Caballo)\n$5 (16 yrs+)\, $3 (3-15 yrs)\, under (menor de) 3 free (gratis)\n\nParking: There will be designated parking near the park entrance and a shuttle for those in need. It is a 3/4 mile walk to the picnic area. You can also park in the picnic area for the normal day-use parking fee of $8 per vehicle.
LOCATION:Armstrong Redwoods Sate Park
UID:e.3189.5042567
SEQUENCE:3
DTSTAMP:20260419T231816Z
URL:https://business.sebastopol.org/events/details/family-day-in-your-park-07-11-2015-5042567
END:VEVENT

END:VCALENDAR
