BEGIN:VCALENDAR
VERSION:2.0
PRODID:-//ChamberMaster//Event Calendar 2.0//EN
METHOD:PUBLISH
X-PUBLISHED-TTL:P3D
REFRESH-INTERVAL:P3D
CALSCALE:GREGORIAN
BEGIN:VEVENT
DTSTART:20150607T153000Z
DTEND:20150607T193000Z
X-MICROSOFT-CDO-ALLDAYEVENT:FALSE
SUMMARY:Feathered Friends of the Laguna: Bird Watching Walk with Lis
DESCRIPTION:Join us for this delightful morning bird walk with avian expert extraordinaire\, Lisa Hug. We will carpool to an area of the Laguna that is not normally open to the public\, returning to Heron Hall afterwards to enjoy our picnic lunches and reviewing a list of the birds we saw. Further details emailed upon registration.
X-ALT-DESC;FMTTYPE=text/html:Join us for this delightful morning bird walk with avian expert extraordinaire\, Lisa Hug. We will carpool to an area of the Laguna that is not normally open to the public\, returning to Heron Hall afterwards to enjoy our picnic lunches and reviewing a list of the birds we saw. Further details emailed upon registration.
LOCATION:Laguna Environmental Center 900 Sanford Road Santa Rosa\, CA 95401
UID:e.3189.5042454
SEQUENCE:3
DTSTAMP:20260420T003800Z
URL:https://business.sebastopol.org/events/details/feathered-friends-of-the-laguna-bird-watching-walk-with-lis-06-07-2015-5042454
END:VEVENT

END:VCALENDAR
