BEGIN:VCALENDAR
VERSION:2.0
PRODID:-//ChamberMaster//Event Calendar 2.0//EN
METHOD:PUBLISH
X-PUBLISHED-TTL:P3D
REFRESH-INTERVAL:P3D
CALSCALE:GREGORIAN
BEGIN:VEVENT
DTSTART:20141212T000000Z
DTEND:20141212T050000Z
X-MICROSOFT-CDO-ALLDAYEVENT:FALSE
SUMMARY:Festival of Lights
DESCRIPTION:GIFT IDEAS • RAFFLES & DOOR PRIZES • FREE SPA TREATMENTS (with RSVP) • TASTY TREATS & WINE • LIVE MUSIC • FIRE DANCING • 10% OFF OUR BOUTIQUE\n\nJoin us for a night to remember - our annual Festival of Lights!\n\nRelax with two free mini-treatments\, including footbaths\, chair massage\, 25-minute room massage and facials when you RSVP. \n\nWine from Thumbprint Cellars and tasty hors d'oeuvres\, too.\n\nGive LOCAL this holiday season - locally made\, responsibly sourced gifts for your loved ones. And give the best gift of all - a timeless experience at Osmosis.\n\nAll of our retail is 10% off during the event\, and for the month of December buy a $150 gift card and get a complementary $20 retail voucher towards any item in our boutique. \n\nAdmission is FREE\, but be sure to RSVP at https://www.eventbrite.com/e/freestone-festival-of-lights-2014-tickets-14365951949 to get in line for the treatments.
X-ALT-DESC;FMTTYPE=text/html:GIFT IDEAS • RAFFLES & DOOR PRIZES • FREE SPA TREATMENTS (with RSVP) • TASTY TREATS & WINE • LIVE MUSIC • FIRE DANCING • 10% OFF OUR BOUTIQUE\n\nJoin us for a night to remember - our annual Festival of Lights!\n\nRelax with two free mini-treatments\, including footbaths\, chair massage\, 25-minute room massage and facials when you RSVP. \n\nWine from Thumbprint Cellars and tasty hors d'oeuvres\, too.\n\nGive LOCAL this holiday season - locally made\, responsibly sourced gifts for your loved ones. And give the best gift of all - a timeless experience at Osmosis.\n\nAll of our retail is 10% off during the event\, and for the month of December buy a $150 gift card and get a complementary $20 retail voucher towards any item in our boutique. \n\nAdmission is FREE\, but be sure to RSVP at https://www.eventbrite.com/e/freestone-festival-of-lights-2014-tickets-14365951949 to get in line for the treatments.
LOCATION:Osmosis Day Spa Sanctuary 209 Bohemian Highway Freestone\, CA
UID:e.3189.5041851
SEQUENCE:3
DTSTAMP:20260420T114752Z
URL:https://business.sebastopol.org/events/details/festival-of-lights-12-11-2014-5041851
END:VEVENT

END:VCALENDAR
