BEGIN:VCALENDAR
VERSION:2.0
PRODID:-//ChamberMaster//Event Calendar 2.0//EN
METHOD:PUBLISH
X-PUBLISHED-TTL:P3D
REFRESH-INTERVAL:P3D
CALSCALE:GREGORIAN
BEGIN:VEVENT
DTSTART:20151205T170000Z
DTEND:20151205T203000Z
X-MICROSOFT-CDO-ALLDAYEVENT:FALSE
SUMMARY:Finding Wisdom for Your Walk with Liza Weaver Brickey
DESCRIPTION:The physical wisdom that you bring to your walk colors the experience and insight you gain from every step. If you wake up in the morning with a body that is cranky\, it is hard to imagine that your walk will give you a mystical experience\, release yesterday’s baggage\, a satisfying conversation with a friend\, or even a brisk start to your day. Your body has the inherent ability to take care of you. But\, sometimes it’s difficult to understand how your body speaks. Learning to pay attention to the language of your body can open new possibilities for moving without pain\, with speed that does not damage you\, with enough breath to walk and talk at the same time\, and without such a heavy load of baggage. \n\n\n In 2.5 hours\, you will explore your relationship to the ground and what makes for a better uprightness. You will begin to experience the difference between your two feet and their relationship to the earth\, and the importance of your heel in walking. Also\, there will be attention directed toward how breath and the carriage of your head and neck are a part of every step. Awareness of how you move is the doorway to what it means to “get more from your walk.”\n\nLiza Weaver Brickey is a Feldenkrais practitioner\nwho studied with Dr. Moshe Feldenkrais and\nhas her own practice in Sebastopol. She is the founder\nof Sunrisewalkers\,\na group of people who regularly walk the Laguna de Santa Rosa trail.\nHaving been diagnosed with advanced arthritis in both hip joints 10 years ago\,\nLiza used the Feldenkrais techniques and method of bringing awareness to the\nbody and now walks the 2-mile Laguna trail with ease and grace\, does yoga\,\ntravels and hikes. She has a passion for sharing these tools with others for\nbetter ways of moving and alignment. This event includes a vegetarian potluck. Suitable for adults 18 years and up. $35.\nPre-registration required: http://www.lagunafoundation.org/laguna_walks_classes.shtml
X-ALT-DESC;FMTTYPE=text/html:<!--  Visual Designer HTML --><p style="background-image: initial\; background-attachment: initial\; background-size: initial\; background-origin: initial\; background-clip: initial">The physical wisdom that you bring to your walk colors the experience and insight you gain from every step. If you wake up in the morning with a body that is cranky\, it is hard to imagine that your walk will give you a mystical experience\, release yesterday’s baggage\, a satisfying conversation with a friend\, or even a brisk start to your day. Your body has the inherent ability to take care of you. But\, sometimes it’s difficult to understand how your body speaks. Learning to pay attention to the language of your body can open new possibilities for moving without pain\, with speed that does not damage you\, with enough breath to walk and talk at the same time\, and without such a heavy load of baggage.&nbsp\;<br />\n<br /> In 2.5 hours\, you will explore your relationship to the ground and what makes for a better uprightness. You will begin to experience the difference between your two feet and their relationship to the earth\, and the importance of your heel in walking. Also\, there will be attention directed toward how breath and the carriage of your head and neck are a part of every step. Awareness of how you move is the doorway to what it means to “get more from your walk.”</p>\n\n<p><span style="font-size:12px">Liza Weaver Brickey is a&nbsp\;</span><a href="http://www.feldenkrais.com/" target="_blank"><span style="color:#0072BC\;font-size:12px">Feldenkrais</span></a><span style="font-size:12px">&nbsp\;practitioner\nwho studied with Dr. Moshe Feldenkrais and\nhas her own practice in Sebastopol. She is the founder\nof&nbsp\;</span><a href="http://sunrisewalkers.com/" target="_blank"><span style="color:#0072BC\;font-size:12px">Sunrisewalkers</span></a><span style="font-size:12px">\,\na group of people who regularly walk the Laguna de Santa Rosa trail.\nHaving been diagnosed with advanced arthritis in both hip joints 10 years ago\,\nLiza used the Feldenkrais techniques and method of bringing awareness to the\nbody and now walks the 2-mile Laguna trail with ease and grace\, does yoga\,\ntravels and hikes. She has a passion for sharing these tools with others for\nbetter ways of moving and alignment.&nbsp\;</span></p><p>This event includes a vegetarian potluck.&nbsp\;</p><p><span style="color: #333333\;font-size:12px">Suitable for adults 18 years and up.</span><span style="font-size:12px"><span style="color: #333333"> $35.\nPre-registration required</span><span style="color: #333333">: <a href="http://www.lagunafoundation.org/laguna_walks_classes.shtml">http://www.lagunafoundation.org/laguna_walks_classes.shtml</a></span></span><span style="font-size:12px">&nbsp\;</span></p>
LOCATION:Laguna Environmental Center (corner of Occidental)900 Sanford RoadSanta Rosa\, CA 95401
UID:e.3189.5042905
SEQUENCE:3
DTSTAMP:20260419T143203Z
URL:https://business.sebastopol.org/events/details/finding-wisdom-for-your-walk-with-liza-weaver-brickey-12-05-2015-5042905
END:VEVENT

END:VCALENDAR
