BEGIN:VCALENDAR
VERSION:2.0
PRODID:-//ChamberMaster//Event Calendar 2.0//EN
METHOD:PUBLISH
X-PUBLISHED-TTL:P3D
REFRESH-INTERVAL:P3D
CALSCALE:GREGORIAN
BEGIN:VEVENT
DTSTART:20121006T013000Z
DTEND:20121006T060000Z
X-MICROSOFT-CDO-ALLDAYEVENT:FALSE
SUMMARY:First Friday Live '' In the Spirit of Lennon''
DESCRIPTION:Drew Harrison\, from The Sun Kings presents a one-man show of the works of John Lennon from his Beatles' songs\, to his solo career and as the voice of the Plastic Ono Band.  Truly a must see for all John Lennon Fans.  Doors open at 6:30.... Food from Bar B Que Smokehouse Bistro. Cold Lagunitas Beer\, Fine Wine\, Desserts   $5.00 under 18
X-ALT-DESC;FMTTYPE=text/html:Drew Harrison\, from The Sun Kings presents a one-man show of the works of John Lennon from his Beatles' songs\, to his solo career and as the voice of the Plastic Ono Band.  Truly a must see for all John Lennon Fans.  Doors open at 6:30.... Food from Bar B Que Smokehouse Bistro. Cold Lagunitas Beer\, Fine Wine\, Desserts & Refreshments.   All Ages Welcome. All tickets $10.00 at the door\; $5.00 under 18
LOCATION:Sebastopol Community Cultural Center 390 Morris Street\, Seastopol
UID:e.3189.9250
SEQUENCE:3
DTSTAMP:20260422T071844Z
URL:https://business.sebastopol.org/events/details/first-friday-live-in-the-spirit-of-lennon-10-05-2012-9250
END:VEVENT

END:VCALENDAR
