BEGIN:VCALENDAR
VERSION:2.0
PRODID:-//ChamberMaster//Event Calendar 2.0//EN
METHOD:PUBLISH
X-PUBLISHED-TTL:P3D
REFRESH-INTERVAL:P3D
CALSCALE:GREGORIAN
BEGIN:VEVENT
DTSTART:20121103T013000Z
DTEND:20121103T063000Z
X-MICROSOFT-CDO-ALLDAYEVENT:FALSE
SUMMARY:First Friday Live - Ukulele Festival
DESCRIPTION:Doors open at 6:30pm\, Music at 7pm Cold Lagunitas beer\, fine wine and refreshments available for purchase as well as\, Barbeque Smokehouse Bistro food.
X-ALT-DESC;FMTTYPE=text/html:Doors open at 6:30pm\, Music at 7pm Cold Lagunitas beer\, fine wine and refreshments available for purchase as well as\, Barbeque Smokehouse Bistro food.
LOCATION:Sebastopol Community Cultural Center 390 Morris Street
UID:e.3189.10497
SEQUENCE:3
DTSTAMP:20260422T053940Z
URL:https://business.sebastopol.org/events/details/first-friday-live-ukulele-festival-11-02-2012-10497
END:VEVENT

END:VCALENDAR
