BEGIN:VCALENDAR
VERSION:2.0
PRODID:-//ChamberMaster//Event Calendar 2.0//EN
METHOD:PUBLISH
X-PUBLISHED-TTL:P3D
REFRESH-INTERVAL:P3D
CALSCALE:GREGORIAN
BEGIN:VEVENT
DTSTART:20150430T010000Z
DTEND:20150430T020000Z
X-MICROSOFT-CDO-ALLDAYEVENT:FALSE
SUMMARY:Foodie Book Club
DESCRIPTION:Dining on great food and great reads.  This month's selection: My Life in France\, by Julia Child.
X-ALT-DESC;FMTTYPE=text/html:Dining on great food and great reads.  This month's selection: My Life in France\, by Julia Child.
LOCATION:Sebastopol Regional Library 7140 Bodega Avenue\, Sebastopol
UID:e.3189.5042319
SEQUENCE:3
DTSTAMP:20260420T041229Z
URL:https://business.sebastopol.org/events/details/foodie-book-club-04-29-2015-5042319
END:VEVENT

END:VCALENDAR
