BEGIN:VCALENDAR
VERSION:2.0
PRODID:-//ChamberMaster//Event Calendar 2.0//EN
METHOD:PUBLISH
X-PUBLISHED-TTL:P3D
REFRESH-INTERVAL:P3D
CALSCALE:GREGORIAN
BEGIN:VEVENT
DTSTART:20150725T170000Z
DTEND:20150726T013000Z
X-MICROSOFT-CDO-ALLDAYEVENT:FALSE
SUMMARY:Fort Ross Festival
DESCRIPTION:At  Fort Ross Festival  we celebrate the wonderful diverse international flavors and cultures of Fort Ross. This year's event will highlight the Kashia\, Russian\, Alaska Native\, and California ranch era people who have called Fort Ross home over the centuries. We'll offer costumed historical vignettes\, hands-on crafts\, militia cannon firings\, horse and buggy rides\, music & dance from numerous cultures\, an international food bazaar -- and of course the Fort Ross beer garden!
X-ALT-DESC;FMTTYPE=text/html:<!--  Visual Designer HTML -->At &nbsp\;Fort Ross Festival &nbsp\;we celebrate the wonderful diverse international flavors and cultures of Fort Ross. This year&#39\;s event will highlight the Kashia\, Russian\, Alaska Native\, and California ranch era people who have called Fort Ross home over the centuries. We&#39\;ll offer costumed historical vignettes\, hands-on crafts\, militia cannon firings\, horse and buggy rides\, music &amp\; dance from numerous cultures\, an international food bazaar -- and of course the Fort Ross beer garden!&nbsp\;
LOCATION:Fort Ross Historic State Park
UID:e.3189.5042639
SEQUENCE:3
DTSTAMP:20260419T231632Z
URL:https://business.sebastopol.org/events/details/fort-ross-festival-07-25-2015-5042639
END:VEVENT

END:VCALENDAR
